BEGIN:VCALENDAR
VERSION:2.0
PRODID:-//León Cultural - ECPv5.16.4.1//NONSGML v1.0//EN
CALSCALE:GREGORIAN
METHOD:PUBLISH
X-WR-CALNAME:León Cultural
X-ORIGINAL-URL:https://leoncultural.com
X-WR-CALDESC:Eventos para León Cultural
BEGIN:VTIMEZONE
TZID:Europe/Paris
BEGIN:DAYLIGHT
TZOFFSETFROM:+0100
TZOFFSETTO:+0200
TZNAME:CEST
DTSTART:20250330T010000
END:DAYLIGHT
BEGIN:STANDARD
TZOFFSETFROM:+0200
TZOFFSETTO:+0100
TZNAME:CET
DTSTART:20251026T010000
END:STANDARD
END:VTIMEZONE
BEGIN:VEVENT
DTSTART;TZID=Europe/Paris:20251007T183000
DTEND;TZID=Europe/Paris:20251007T183000
DTSTAMP:20260421T101508
CREATED:20251006T113149Z
LAST-MODIFIED:20251006T114930Z
UID:57606-1759861800-1759861800@leoncultural.com
SUMMARY:Presentación del proyecto cultural Revista Atticus / Biblioteca Publica de León
DESCRIPTION:Presentación del proyecto cultural Revista Atticus\nBiblioteca Publica de León\n7 de octubre de 2025\, 18:30 h\nEl editor\, Luis José Cuadrado Gutiérrez presenta el martes 7 de octubre (18:30 horas)\nla edición impresa de esta publicación y detalla los objetivos de este proyecto editorial \nEl Instituto Castellano y Leonés de la Lengua programa el martes\, 7\nde octubre\, a las 18:30 horas\, en la Biblioteca Pública de León la presentación del\nproyecto cultural Revista Atticus\, publicación nacida en 2009 como plataforma digital\n(www.revistaatticus.es)\, y que en 2010 se presentó también como publicación impresa\,\ncoexistiendo desde entonces en ambos formatos. La revista\, editada por el historiador\ndel arte Luis José Cuadrado Gutiérrez\, tiene un interés informativo pegado a la\nactualidad cultural\, con contenidos complementados con colaboraciones de analistas y\nexpertos en distintos ámbitos del conocimiento.\nRevista Atticus es una publicación cultural\, entretenida y amena\, que trata temas de\nactualidad cultural\, atemporal y divertida\, según sostiene su editor\, que recalca que la\npublicación ofrece un tratamiento riguroso de las cuestiones que atiende\, intentando\nabarcar el conjunto de todas las artes liberales. La publicación recoge reportajes\ninéditos de los más variados temas y difunde artículos publicados en otros medios de\ncomunicación con el único fin de ponerlos en conocimiento de los lectores\, siempre\ncitando el autor y la fuente.\nPara diferenciar ambas ediciones\, la edición digital va clasificada con números –y la\nedición impresa figura con letras. La revista ha presentado igualmente un número\nexperimental dedicado al mundo del cine -Revista Atticus Cine-\, con dimensiones más\nreducidas\, que ha estado dedicado al director Carlos García Berlanga y que se\ndistribuyó de forma gratuita coincidiendo con la 67 edición de la Semana Internacional\nde Cine (Seminci) de Valladolid. La publicación\, además\, ha preparado también\nnúmeros monográficos en su versión digital. \nREVISTA ATTICUS. HISTORIA\nRevista Atticus ha puesto en manos de los lectores hasta el momento 47 números en\nformato digital –disponibles todos para su descarga gratuita a través de la plataforma\,\ny más de una docena de números impresos en papel\, de los que los nueve primeros\nestán ya disponibles para su descarga en formato digital desde su sitio web. En todo\neste tiempo\, la publicación impresa ha contado con cerca de 250 colaboradores entre\nfotógrafos\, escritores\, ilustradores y humoristas y cada nuevo número que se publica\ncuenta con una media de un centenar de colaboradores asiduos. Así\, alrededor de\n20.000 páginas de contenidos culturales entre artículos\, ilustraciones\, imágenes\,\nrelatos y reseñas cinematográficas y literarias\, en su mayoría inéditos\, suponen el\nbalance de todos estos años de divulgación cultural. \nDesde que surgió esta publicación en formato digital\, se han publicado 1.800 entradas\nrelacionadas especialmente con reseñas de espectáculos\, de carácter cinematográfico\ny de otros contenidos.\nParalelamente\, Atticus ha mantenido una actividad editorial que ha supuesto la\npublicación de distintos títulos como La fiesta de las palabras\, de Salvador Robles; La\ndama del teatro\, de Marco Temprano; Valdesaz en / de los Oteros\, de José Luis\nAlonso de Santos; Por ese lazo de sangre\, de Carlos Ibañez; Varios disparates y un\ncapricho y Las profundidades de un disparate\, ambos de Clara Martín Muñoz. En todo\neste tiempo\, la publicación ha realizado entrevistas a personajes del mundo de la\ncultura como Augusto Ferre-Dalmau\, Raúl Arévalo y José Luis Cienfuegos\, al tiempo\nque ha implicado como colaboradores a Alfredo Martirena\, Marco Temprano\, Gustavo\nMartín Garzo y José Miguel Travieso\, entre otras firmas del mundo de la cultura.\nRevista Atticus está presente en las principales instituciones culturales españolas y\ncuenta con acreditación para la cobertura de presentaciones cinematográficas\,\ncertámenes teatrales y otras citas de la cultura.
URL:https://leoncultural.com/evento/presentacion-del-proyecto-cultural-revista-atticus-biblioteca-publica-de-leon/
LOCATION:Biblioteca Pública de León\, C/ Santa Nonia\, 5\, León\, León\, 987 206 710\, España
CATEGORIES:Presentaciones
ATTACH;FMTTYPE=image/webp:https://leoncultural.com/wp-content/uploads/2025/10/Presentacion-del-proyecto-cultural-Revista-Atticus-Biblioteca-Publica-de-Leon.webp
END:VEVENT
END:VCALENDAR