BEGIN:VCALENDAR
VERSION:2.0
PRODID:-//León Cultural - ECPv5.16.4.1//NONSGML v1.0//EN
CALSCALE:GREGORIAN
METHOD:PUBLISH
X-WR-CALNAME:León Cultural
X-ORIGINAL-URL:https://leoncultural.com
X-WR-CALDESC:Eventos para León Cultural
BEGIN:VTIMEZONE
TZID:Europe/Paris
BEGIN:DAYLIGHT
TZOFFSETFROM:+0100
TZOFFSETTO:+0200
TZNAME:CEST
DTSTART:20240331T010000
END:DAYLIGHT
BEGIN:STANDARD
TZOFFSETFROM:+0200
TZOFFSETTO:+0100
TZNAME:CET
DTSTART:20241027T010000
END:STANDARD
END:VTIMEZONE
BEGIN:VEVENT
DTSTART;TZID=Europe/Paris:20241129T193000
DTEND;TZID=Europe/Paris:20241129T203000
DTSTAMP:20260420T121448
CREATED:20241127T155415Z
LAST-MODIFIED:20241127T155415Z
UID:54479-1732908600-1732912200@leoncultural.com
SUMMARY:Piano a cuatro manos: Francesca Murdaca y Letizia Sansalone (Italia). Sala Eutherpe
DESCRIPTION:Piano a cuatro manos: Francesca Murdaca y Letizia Sansalone (Italia).\nSala Eutherpe\nViernes 29\, noviembre 2024\, 19:30 h\nPrograma \nGabriel Faurè (1845-1924) Dolly Suite\, op. 56 \n-Berceuse \n-Mi-a-ou \n-Le jardin de Dolly \n-Kitty-valse \n-Tendresse \n-Le pas espagnol. \nClaude Debussy (1862-1918) Petite suite: \n-En bateau \n-Cortège \n-Menuet \n-Ballet \nCamille Saint-Saëns (1835-1921) Le carnaval des anìmaux \n-Introductionet marche royale du Lion \n-Poules et Coqs \n-Hémiones (animaux véloces) \n-Tortues \n-L’Éléphant \n-Kangourous \n-Aquarium \n-Personnages à longues Oreilles \n-Le coucou au fond des bois \n-Volière \n-Pianistes \n-Fossiles \n-Le Cygne \n-Finale \nLETIZIA SANSALONE\, PIANISTA (ITALIA) Nació en Locri en 1997. A los 8 años comenzó su carrera pianística con la maestra Loredana Pelle\, quien la siguió hasta 2016\, año en el que aprobó la admisión al curso académico de tres años en el Conservatorio Fausto Torrefranca de Música en Vibo Valentia con la máxima puntuación; aquí continuará sus estudios con el Maestro Aurelio Pollice\, obteniendo el Diploma Académico de Primer Nivel y Segundo Nivel en piano solo\, ambos con puntuación de 110/110 cum laude. \nGanadora de numerosos concursos nacionales e internacionales: el «Gustav Mahler» de Trebisacce\, el Ciudad de Filadelfia\, Nacional «Valerio Marchitelli» de Roma\, Nacional Ciudad de Barcellona Pozzo di Gotto\, Nacional A.M.A. Calabria de Lamezia Terme\, nacional de música “Magna Grecia” de Gioiosa Ionica. Siguió clases magistrales con los maestros Anna Kravtchenko\, Massimiliano Ferrati\, Maria Beatrice Zoccali \,Chiara Bertoglio\, Raffaele Impagnatiello\, Vincenzo Le Pera\, Paolo Vergari. \nDa conciertos como solista\, pianista acompañante y en música de cámara en Nápoles\, Catania\, Reggio Calabria\, Gerace\, Santa Severina y otras. Colaboró ​​con el Conservatorio Fausto Torrefranca de Vibo Valentia para apoyar la enseñanza de la asignatura de práctica y lectura del piano\, y obtuvo la beca como acompañante asistente de piano. \nEs profesor de piano en la Academia Senocrito de Locri(Italia). \nFRANCESCA MURDACA (ITALIA) Comenzó a estudiar piano a los 11 años en la Academia de Música\, Letras y Artes «Senocrito» de Locri (RC)\, bajo la dirección de la Maestra Loredana Pelle. Obtuvo\, en el Conservatorio «F. Cilea» de Reggio Calabria\, el Diploma Académico en Piano con la máxima puntuación y matrícula de honor bajo la dirección de la Maestra Cinzia Dato y el Diploma Académico en Música de Cámara con la máxima puntuación. Ha actuado en conciertos como solista en Reggio Calabria\, Nápoles\, Gerace (RC)\, León (España)\, Crotone\, Milán\, Palermo\, Nueva York (con motivo de los Golden Classical Music Awards en el Carnegie Hall – Weill Recital Hall). \nHa sido ganadora de concursos musicales nacionales e internacionales: Nacional de «Pasquale Benintende»\, e Internacional «Lucio Stefano D’Agata»\, el Europeo «Città di Siracusa» para Jóvenes Talentos\, el Nacional «Totuccio Catanese» para jóvenes talentos\, el Internacional Golden Classical Music Awards en Nueva York\, París y Londres con un recital en el Carnegie Hall (Nueva York). la Anphitéatre Philharmonie (París) y el Royal Albert Hall (Londres)\, European Music Competition City of Philadelphia. Ha asistido a clases magistrales con Roberto Giordano\, François-Joel Thiollier\, Cinzia Dato\, Pierluigi Camicia\, Federica Righini\, Bruno Canino\, Benedetto Lupo.
URL:https://leoncultural.com/evento/piano-a-cuatro-manos-francesca-murdaca-y-letizia-sansalone-italia-sala-eutherpe/
LOCATION:Sala EUTHERPE\, Alfonso V\, 10\, León\, León\, 24001\, España
CATEGORIES:Conciertos,Música
ATTACH;FMTTYPE=image/jpeg:https://leoncultural.com/wp-content/uploads/2024/11/Piano-a-cuatro-manos-Francesca-Murdaca-y-Letizia-Sansalone-Italia.-Sala-Eutherpe.jpg
END:VEVENT
END:VCALENDAR