BEGIN:VCALENDAR
VERSION:2.0
PRODID:-//León Cultural - ECPv5.16.4.1//NONSGML v1.0//EN
CALSCALE:GREGORIAN
METHOD:PUBLISH
X-WR-CALNAME:León Cultural
X-ORIGINAL-URL:https://leoncultural.com
X-WR-CALDESC:Eventos para León Cultural
BEGIN:VTIMEZONE
TZID:Europe/Paris
BEGIN:DAYLIGHT
TZOFFSETFROM:+0100
TZOFFSETTO:+0200
TZNAME:CEST
DTSTART:20240331T010000
END:DAYLIGHT
BEGIN:STANDARD
TZOFFSETFROM:+0200
TZOFFSETTO:+0100
TZNAME:CET
DTSTART:20241027T010000
END:STANDARD
END:VTIMEZONE
BEGIN:VEVENT
DTSTART;TZID=Europe/Paris:20240212T180000
DTEND;TZID=Europe/Paris:20240212T190000
DTSTAMP:20260420T121402
CREATED:20240209T063102Z
LAST-MODIFIED:20240212T161039Z
UID:50542-1707760800-1707764400@leoncultural.com
SUMMARY:Payasadas Mágicas. Teatro San Francisco
DESCRIPTION:Payasadas Mágicas.\nTeatro San Francisco\nDomingo 11 a las 12 h y lunes 12 a las 18 h\n \n\nEdad: a partir de 4  años – Duración. 50 min (Magia-Clown-Teatro) \nPayasadas Mágicas es un espectáculo donde se mezclan la magia y el clown\, resultando así una composición divertida apta para todos los públicos\, donde sin duda todos los asistentes disfrutarán de una actuación diferente que dejará huella. \nEl lema por el que se rige este espectáculo es «Un día sin reír es un día perdido» (Charles Chaplin)\, por lo que garantizamos un espectáculo mágico a la par que divertido\, donde las risas y el asombro del público estarán asegurados. \nPayasadas Mágicas no dejarán indiferente a nadie. \nAdrián. \nAdrián Zamorano\, «ZamoClown»\, se inició en el mundo del teatro con 20 años\, aunque desde siempre le habían entusiasmado las artes escénicas. Durante varios años fue miembro de varios grupos de teatro\, pero siempre pensando en dar un paso más hacia el mundo del circo\, dado que siempre se quedaba ensimismado al ver este tipo de espectáculos.\nDespués de aprender durante aquellos años varios tipos de disciplinas escénicas\, en el año 2016 decide crear ZamoClown\, cumpliendo así con su inquietud por este tipo de artes\, decidiendo especializarse en magia y clown.\nA día de hoy sigue especializándose en las disciplinas de magia\, clown y circo\, creando nuevos espectáculos en los que aunar las risas del público con los malabares\, los equilibrismos y la magia\, haciendo de esta mezcla un espectáculo circense realmente dinámico y diferente. \nExpedición a Polonia con la ONG Payasos sin Fronteras en favor de los refugiados ucranianos (2022).\nParticipación en las Galas de Payasos sin Fronteras en diferentes ciudades en los años 2022\, 2019 y 2018\nParticipación en el Festival de Circo de Villaquilambre 2022 (León).\nParticipación en el Festival Internacional de Magia León Vive la Magia 2022.\nParticipación en el programa Escenario Patrimonio 2021 de la Junta de Castilla y León.\nParticipación en el Festival León Tiene Narices 2021.\nParticipación en el programa Receta Cultura 2020\, 2021 y 2022 de la Diputación de León y el Instituto Leonés de Cultura.\nParticipación activa en la Fundación Abracadabra con actuaciones en el Hospital de León desde 2020.\n \n 
URL:https://leoncultural.com/evento/payasadas-magicas-teatro-san-francisco/
LOCATION:Teatro San Francisco\, Calle Corredera\, 1  \,  León\, León\, 24003\, España
CATEGORIES:Infantil,Magia
ATTACH;FMTTYPE=image/jpeg:https://leoncultural.com/wp-content/uploads/2024/02/Payasadas-Magicas.-Teatro-San-Francisco.jpg
END:VEVENT
END:VCALENDAR