BEGIN:VCALENDAR
VERSION:2.0
PRODID:-//León Cultural - ECPv5.16.4.1//NONSGML v1.0//EN
CALSCALE:GREGORIAN
METHOD:PUBLISH
X-WR-CALNAME:León Cultural
X-ORIGINAL-URL:https://leoncultural.com
X-WR-CALDESC:Eventos para León Cultural
BEGIN:VTIMEZONE
TZID:Europe/Paris
BEGIN:DAYLIGHT
TZOFFSETFROM:+0100
TZOFFSETTO:+0200
TZNAME:CEST
DTSTART:20200329T010000
END:DAYLIGHT
BEGIN:STANDARD
TZOFFSETFROM:+0200
TZOFFSETTO:+0100
TZNAME:CET
DTSTART:20201025T010000
END:STANDARD
END:VTIMEZONE
BEGIN:VEVENT
DTSTART;TZID=Europe/Paris:20200927T200000
DTEND;TZID=Europe/Paris:20200927T213000
DTSTAMP:20260424T121014
CREATED:20200927T093210Z
LAST-MODIFIED:20200927T093210Z
UID:32882-1601236800-1601242200@leoncultural.com
SUMMARY:Orquesta Universidad de Oviedo. 33 Festival de música española de León. Auditorio ciudad de León
DESCRIPTION:Orquesta Universidad de Oviedo.\n33 Festival de música española de León.\nAuditorio ciudad de León\n27 de septiembre a las 20:00 horas\n\n\n\n\nLa Orquesta de la Universidad de Oviedo realiza su primer concierto el 14 de febrero de 1979\, bajo la dirección de su fundador Alfonso Ordieres\, antiguo concertino de la Orquesta Sinfónica de Asturias. La Universidad de Oviedo\, gracias al empeño personal del entonces rector D. Teodoro López Cuesta\, se convierte así en la primera Universidad de España en contar con una orquesta. \nLa primera etapa de la orquesta dura casi una década y en este periodo realiza numerosos conciertos y participa en diversos cursos y festivales por la geografía española como Cambrils\, Granada y Madrid. Destacan\, entre otros\, el concierto para los Reyes de España en el acto de constitución de la Fundación Príncipe (hoy Princesa) de Asturias en 1980 y las grabaciones realizadas para TVE. \nTras un largo periodo de inactividad\, el nuevo equipo rectoral de la Universidad decide recuperar la antigua orquesta bajo la dirección de Pedro Ordieres en el curso 2017/18\, debutando en octubre 2017 en Vegadeo\, dentro de los actos de clausura del Foro de comunicación y Escuela. Desde entonces han actuado en Oviedo\, Gijón\, Luarca\, La Caridad\, Mieres\, Candás\, Villaviciosa\, La Felguera\, destacando los conciertos de Navidad en la Catedral de Oviedo y la iglesia prerrománica de San Julián de los Prados y el concierto de clausura de la Feria de Muestras de Asturias 2018. Además\, en 2018 la orquesta realiza la primera grabación de una banda sonora para el documental producido por la TPA “Desde la otra Orilla” bajo la dirección de Rubén Díez y la producción del concierto de Navidad desde Villaviciosa para la TPA. \n\n\nLa Orquesta\, al igual que el Coro de la Universidad de Oviedo\, se en- marcan dentro de la actividad del Vicerrectorado de Extensión Uni- versitaria y Proyección Internacional. En su nueva etapa crece hasta convertirse en una orquesta sinfónica formada por más de 50 com- ponentes pertenecientes a la comunidad Universitaria de Oviedo.
URL:https://leoncultural.com/evento/orquesta-universidad-de-oviedo-33-festival-de-musica-espanola-de-leon-auditorio-ciudad-de-leon/
LOCATION:Auditorio Ciudad de León\, Av. de los Reyes Leoneses\, 4\, 24008 León\, León\, León\, 24008\, España
CATEGORIES:Conciertos,Música
ATTACH;FMTTYPE=image/jpeg:https://leoncultural.com/wp-content/uploads/2020/09/33-festival-musica-de-leon.jpg
END:VEVENT
END:VCALENDAR