BEGIN:VCALENDAR
VERSION:2.0
PRODID:-//León Cultural - ECPv5.16.4.1//NONSGML v1.0//EN
CALSCALE:GREGORIAN
METHOD:PUBLISH
X-WR-CALNAME:León Cultural
X-ORIGINAL-URL:https://leoncultural.com
X-WR-CALDESC:Eventos para León Cultural
BEGIN:VTIMEZONE
TZID:Europe/Paris
BEGIN:DAYLIGHT
TZOFFSETFROM:+0100
TZOFFSETTO:+0200
TZNAME:CEST
DTSTART:20160327T010000
END:DAYLIGHT
BEGIN:STANDARD
TZOFFSETFROM:+0200
TZOFFSETTO:+0100
TZNAME:CET
DTSTART:20161030T010000
END:STANDARD
END:VTIMEZONE
BEGIN:VEVENT
DTSTART;TZID=Europe/Paris:20161229T190000
DTEND;TZID=Europe/Paris:20161229T210000
DTSTAMP:20260421T172203
CREATED:20161229T072423Z
LAST-MODIFIED:20161229T072436Z
UID:7131-1483038000-1483045200@leoncultural.com
SUMMARY:El Orfeón leonés ofrece un concierto coral en Gordoncillo
DESCRIPTION:El Orfeón Leonés actuará este jueves 29 de diciembre de 2016 en el Auditorio del MIHACALE de Gordoncillo. La actuación se enmarca dentro del programa «Música Coral en Navidad» programada por el Instituto Leonés de Cultura de la Diputación de León.\nEl concierto comenzará a las 7 de la tarde (19:00 horas)\, con entrada libre.\nPrograma:\nAvre tu puerta — Tradicional sefardíe\nDurme — Tradicional sefardíe\nMorena me llaman — Tradicional sefardíe\nSi el aire se revuelve — E. G. Pastrana\nViejo amor — A. Esparza\nNegra sombra — J. Montes\nBlanco velero — J. H. Sanz\nAdeste fideles — Reading\nCanción de cuna — J. Brahms\nNoche de paz — Gruber-Á. Barja\nBonita es la rosa — E.G. Pastrana\n¿Qué tienen tus ojos? — E.G. Pastrana\nVillancico bolero — Anónimo\nLas campanas de León — Felipe Magdaleno\nDirectora: W José Flecha
URL:https://leoncultural.com/evento/orfeon-leones-ofrece-concierto-coral-gordoncillo/
LOCATION:Gordoncillo\, Gordoncillo\, León\, 24294\, España
CATEGORIES:Conciertos,Música
ATTACH;FMTTYPE=image/jpeg:https://leoncultural.com/wp-content/uploads/2016/12/ORFEON-LEONES.jpg
END:VEVENT
END:VCALENDAR