BEGIN:VCALENDAR
VERSION:2.0
PRODID:-//León Cultural - ECPv5.16.4.1//NONSGML v1.0//EN
CALSCALE:GREGORIAN
METHOD:PUBLISH
X-WR-CALNAME:León Cultural
X-ORIGINAL-URL:https://leoncultural.com
X-WR-CALDESC:Eventos para León Cultural
BEGIN:VTIMEZONE
TZID:Europe/Paris
BEGIN:DAYLIGHT
TZOFFSETFROM:+0100
TZOFFSETTO:+0200
TZNAME:CEST
DTSTART:20180325T010000
END:DAYLIGHT
BEGIN:STANDARD
TZOFFSETFROM:+0200
TZOFFSETTO:+0100
TZNAME:CET
DTSTART:20181028T010000
END:STANDARD
END:VTIMEZONE
BEGIN:VEVENT
DTSTART;TZID=Europe/Paris:20180420T180000
DTEND;TZID=Europe/Paris:20180420T200000
DTSTAMP:20260422T180615
CREATED:20180420T045616Z
LAST-MODIFIED:20180420T045616Z
UID:18347-1524247200-1524254400@leoncultural.com
SUMMARY:Nuevo recorrido 'León en Vela' Iglesia Jesús Divino Obrero. León
DESCRIPTION:Nuevo recorrido ‘León en Vela’ Iglesia Jesús Divino Obrero. León\n20 de abril a las 18:00 horas \nEn esta ocasión se explicarán las obras que el pintor muralista realizó en la iglesia Jesús Divino Obrero y en el actual Centro de Idiomas de la U.L.E. El mural Jesús Divino Obrero se comenzó a pintar el 21 de septiembre del año 1965 y se terminó el mes de Marzo de 1966. El obispo Almarcha lo inauguró el 2 de abril de 1966. Vela realizó un imponente mural de 198 metros cuadrados portador de gran cantidad de claves y mensajes. Un trabajo que le reportó gran sufrimiento por el intenso frío que padeció mientras componía este trabajo\, resultado de un profundo estudio y reflexión.\nEl segundo mural que se visita se titula «Historia del comercio»\, obra que emplea la técnica de caseína sobre muro. Las medidas son 3 x 10 metros y se sitúa en lo que fue la Escuela de Comercio de León\, ahora Centro de Idiomas de la ULE. Está plasmado en 1965 y distribuido en dos paneles de madera con diferente saliente.\nDÍA: VIERNES 20 DE ABRIL HORA: 18.00h. LUGAR: IGLESIA DE JESÚS DIVINO OBRERO ACTIVIDAD GRATUITA\, HASTA COMPLETAR AFORO
URL:https://leoncultural.com/evento/nuevo-recorrido-leon-en-vela-iglesia-jesus-divino-obrero-leon/
LOCATION:Iglesia Jesús Divino Obrero\, Calle Víctor de los Ríos\, 25\, León\, León\, 24006
CATEGORIES:Pintura,Visitas guiadas
ATTACH;FMTTYPE=image/jpeg:https://leoncultural.com/wp-content/uploads/2016/03/Vela-Zanetti-e1626782941340.jpg
END:VEVENT
END:VCALENDAR