BEGIN:VCALENDAR
VERSION:2.0
PRODID:-//León Cultural - ECPv5.16.4.1//NONSGML v1.0//EN
CALSCALE:GREGORIAN
METHOD:PUBLISH
X-WR-CALNAME:León Cultural
X-ORIGINAL-URL:https://leoncultural.com
X-WR-CALDESC:Eventos para León Cultural
BEGIN:VTIMEZONE
TZID:Europe/Paris
BEGIN:DAYLIGHT
TZOFFSETFROM:+0100
TZOFFSETTO:+0200
TZNAME:CEST
DTSTART:20230326T010000
END:DAYLIGHT
BEGIN:STANDARD
TZOFFSETFROM:+0200
TZOFFSETTO:+0100
TZNAME:CET
DTSTART:20231029T010000
END:STANDARD
END:VTIMEZONE
BEGIN:VEVENT
DTSTART;TZID=Europe/Paris:20231109T213000
DTEND;TZID=Europe/Paris:20231109T230000
DTSTAMP:20260422T150454
CREATED:20231106T121607Z
LAST-MODIFIED:20231106T121916Z
UID:49224-1699565400-1699570800@leoncultural.com
SUMMARY:Mundo Chillón. El Gran Café
DESCRIPTION:Mundo Chillón.\nEl Gran Café\nJueves 9\, noviembre 2023\, 21:30 h\n \nApertura de Puertas 21:00h / Concierto 21:30h\nEntrada anticipada 13€ en Taquilla 15€\nA la venta en El Gran Café y en  Entradium.com\nhttps://entradium.com/es/events/mundo-chillon-en-leon-leon\n\n\nCuando Ataulfo Ruz Atencia\, aquejado de incontinencia\, irrumpió por una urgencia en nuestro concierto de Plasencia\, repugnole la presencia de una que otra inconsistencia al proferir la desinencia de género y hubo pendencia. \nY sin embargo en Altafuya otro\, que si esa idea era suya y luego Catalañazor\, donde se desmayó un señor\, nos aplaudieron con fervor\, creyéndonos en su candor dignos de semejante honor. \nYa sea Gijón o Extremadura le llevamos la emoción más pura\, \nen Cuernavaca o en Morón artesanía hecha canción\, \nen Orihuela o en Barrantes música fiel\, sin conservantes\, \nen Sabadell o en Elegido de nuestra garganta a su oído. \nYa está aquí Mundo Chillón\, quiere llamar la atención \nde su cerebro\, de su corazón\, de su pelvis y su billetera \nfinja pasmo y estupor eso será lo mejor. \nEso será lo mejor.
URL:https://leoncultural.com/evento/mundo-chillon-el-gran-cafe/
LOCATION:El Gran Café\, Calle Cervantes\, 7\, León\, León\, 24003\, España
CATEGORIES:Conciertos,Música
ATTACH;FMTTYPE=image/jpeg:https://leoncultural.com/wp-content/uploads/2023/11/MUNDO-CHILLON-EL-GRAN-CAFE.jpg
END:VEVENT
END:VCALENDAR