BEGIN:VCALENDAR
VERSION:2.0
PRODID:-//León Cultural - ECPv5.16.4.1//NONSGML v1.0//EN
CALSCALE:GREGORIAN
METHOD:PUBLISH
X-WR-CALNAME:León Cultural
X-ORIGINAL-URL:https://leoncultural.com
X-WR-CALDESC:Eventos para León Cultural
BEGIN:VTIMEZONE
TZID:Europe/Paris
BEGIN:DAYLIGHT
TZOFFSETFROM:+0100
TZOFFSETTO:+0200
TZNAME:CEST
DTSTART:20170326T010000
END:DAYLIGHT
BEGIN:STANDARD
TZOFFSETFROM:+0200
TZOFFSETTO:+0100
TZNAME:CET
DTSTART:20171029T010000
END:STANDARD
END:VTIMEZONE
BEGIN:VEVENT
DTSTART;TZID=Europe/Paris:20170115T203000
DTEND;TZID=Europe/Paris:20170115T223000
DTSTAMP:20260424T131514
CREATED:20170115T081316Z
LAST-MODIFIED:20170115T081316Z
UID:7454-1484512200-1484519400@leoncultural.com
SUMMARY:Moonshine Wagon\, concierto el el Babylon
DESCRIPTION:Los Moonshine Wagon estaN haciendo nuestra sexta gira por España antes de hacer gira por Brasil\, Europa y Estados Unidos este año y no podía faltar una fecha en el Babylon de León.\nComponentes:\nGoiatz Dutto (fiddle\, percussion\, vocals)\, Joel Bruña (guitar\, banjo\, mandolin\, vocals) & Bufunfa Nikolaiko (double bass\, vocals).
URL:https://leoncultural.com/evento/moonshine-wagon-concierto-babylon/
LOCATION:Babylon\, Calle de Sta Cruz\, 10\, León\, León\, 24003\, España
CATEGORIES:Conciertos,Música
ATTACH;FMTTYPE=image/jpeg:https://leoncultural.com/wp-content/uploads/2017/01/Moonshine-Wagon-1.jpg
END:VEVENT
END:VCALENDAR