BEGIN:VCALENDAR
VERSION:2.0
PRODID:-//León Cultural - ECPv5.16.4.1//NONSGML v1.0//EN
CALSCALE:GREGORIAN
METHOD:PUBLISH
X-WR-CALNAME:León Cultural
X-ORIGINAL-URL:https://leoncultural.com
X-WR-CALDESC:Eventos para León Cultural
BEGIN:VTIMEZONE
TZID:Europe/Paris
BEGIN:DAYLIGHT
TZOFFSETFROM:+0100
TZOFFSETTO:+0200
TZNAME:CEST
DTSTART:20160327T010000
END:DAYLIGHT
BEGIN:STANDARD
TZOFFSETFROM:+0200
TZOFFSETTO:+0100
TZNAME:CET
DTSTART:20161030T010000
END:STANDARD
END:VTIMEZONE
BEGIN:VEVENT
DTSTART;TZID=Europe/Paris:20160802T220000
DTEND;TZID=Europe/Paris:20160802T232000
DTSTAMP:20260424T104132
CREATED:20160801T120735Z
LAST-MODIFIED:20160801T121407Z
UID:3943-1470175200-1470180000@leoncultural.com
SUMMARY:El mago de los sueños. Del trazo al pixel
DESCRIPTION:El martes 2 de agosto a las 22:00 horas tendrá lugar en el patio del MUSAC una nueva sesión del el ciclo de cine de verano ‘Del trazo al píxel. Más de 100 años de animación española’. Bajo el título de ‘Macián el maestro’\, la sesión propone un acercamiento a la obra de uno de los mejores exponentes de la animación en España\, Francisco Macián (Barcelona\, 1929-1976). Se proyectará ‘El mago de los sueños’ (1966)\, primer largometraje dirigido por el maestro\, inspirado en el cuento de  Andersen ‘Ole Cierraojos’; así como dos cortometrajes publicitarios dirigidos por Macián para los estudios Moro en los años 50. La sesión\, indicada para todos los públicos\, tiene una  duración de 76 minutos y la entrada es gratuita hasta completar el aforo. \nFrancisco Macián es uno de los nombres clave de la animación en España. Montó su propio estudio en Barcelona en 1955\, desde el que realizó publicidad para los Estudios Moro y\, más adelante\, su primer largometraje\, ‘El mago de los sueños’ (1966)\, inspirado en el cuento de Andersen ‘Ole Cierraojos’ (Ole Lukøje) y protagonizado por la familia Telerín\, archipopular en la época gracias a la cortinilla animada para TVE ‘Vamos a la cama’ (1965). Las referencias “disneyanas” y el excelente trabajo de fondos de Salvador Mestres\, Jaume Vila\, Jordi Gim\, Albert Rué\, Carmelo Garmendia y Vicar (también creador del personaje del Mago)\, se combinan con el diseño moderno e inconfundible de los personajes de José Luis Moro. En la concepción sonora destacan las cálidas voces de niños de verdad junto a la de artistas del momento\, como Los Tres Sudamericanos o Chicho Gordillo y la música firmada por Josep Solà. A pesar de ser su ópera prima\, ‘El mago de los sueños’ es uno de los títulos más celebrados de la animación española. Como aperitivo de la sesión se proyectan dos anuncios de Macián de los años cincuenta: ‘Buena mesa’ (aceite Koipe\, 1955-57) y ‘Sinfonía escarlata’ (tomate Corchero\, 1958). \nInformación práctica \nCiclo ‘Del trazo al píxel. Más de cien años de animación española’. \nSesión 3: Macián el maestro \nFecha de proyección: martes 2 de agosto \nHora: 22:00 h. \nLugar: patio trasero de MUSAC (entrada por la C/ Campanillas). En caso de lluvia la proyección tendrá lugar en el salón de actos. \nTítulo de la sesión: ‘Macián\, el maestro’ \nDuración: 76 min.\nEntrada gratuita hasta completar el aforo\nProgramado por: CCCB (Centro de Cultura Contemporánea de Barcelona) y AC/E (Acción Cultural Española). \nCon la colaboración de: Filmoteca Española\, Filmoteca de la Generalitat de Catalunya\, Movierecord\, Tres60 Bcn y Lobster Films.
URL:https://leoncultural.com/evento/mago-los-suenos-del-trazo-al-pixel/
LOCATION:MUSAC\, Av de los Reyes Leoneses 24\, León\, León\, 24008\, España
CATEGORIES:Cine
ATTACH;FMTTYPE=image/jpeg:https://leoncultural.com/wp-content/uploads/2016/08/EL-MAGO-DE-LOS-SUENOS.jpg
END:VEVENT
END:VCALENDAR