BEGIN:VCALENDAR
VERSION:2.0
PRODID:-//León Cultural - ECPv5.16.4.1//NONSGML v1.0//EN
CALSCALE:GREGORIAN
METHOD:PUBLISH
X-WR-CALNAME:León Cultural
X-ORIGINAL-URL:https://leoncultural.com
X-WR-CALDESC:Eventos para León Cultural
BEGIN:VTIMEZONE
TZID:Europe/Paris
BEGIN:DAYLIGHT
TZOFFSETFROM:+0100
TZOFFSETTO:+0200
TZNAME:CEST
DTSTART:20180325T010000
END:DAYLIGHT
BEGIN:STANDARD
TZOFFSETFROM:+0200
TZOFFSETTO:+0100
TZNAME:CET
DTSTART:20181028T010000
END:STANDARD
END:VTIMEZONE
BEGIN:VEVENT
DTSTART;TZID=Europe/Paris:20180209T170000
DTEND;TZID=Europe/Paris:20180209T183000
DTSTAMP:20260420T110943
CREATED:20180209T103056Z
LAST-MODIFIED:20180209T103056Z
UID:16590-1518195600-1518201000@leoncultural.com
SUMMARY:Los peregrinos disfrutarán de entrada gratuita a la exposición 'Muchos caminos. Imágenes contemporáneas del Camino de Santiago' en el MUSAC
DESCRIPTION:La Asociación de  Amigos del Camino de Santiago de León «Pulchra Leonina» visita hoy\, viernes 9 de febrero\, la exposición ‘Muchos caminos. Imágenes contemporáneas del Camino de Santiago’\, coincidiendo con el anuncio de la entrada gratuita a la muestra para peregrinos.  Por ello\, se convoca a los medios gráficos a la visita que el director del MUSAC\, Manuel Olveira\, realizará hoy a miembros de la Asociación  de 17:00 a 17:30 horas. \nCoincidiendo con la visita a la muestra hoy por parte de la Asociación de Amigos del Camino de Santiago de León ‘Pulchra Leonina’\, se anuncia la gratuidad de entrada para peregrinos hasta el 2 de septiembre. \nCon motivo de la exposición ‘Muchos caminos. Imágenes contemporáneas del Camino de Santiago’ la entrada al MUSAC\, Museo de Arte Contemporáneo de Castilla y León\, será gratuita para peregrinos hasta el 2 de septiembre\, fecha en la que se clausura la muestra. \nPresentando en la taquilla del museo la credencial de peregrino\, se podrá acceder gratuitamente a esta muestra colectiva que reflexiona sobre la realidad paisajística\, antropológica\, cultural\, histórica\, espiritual y religiosa del Camino de Santiago y la peregrinación que lo motiva\, pero ante todo\, sobre las experiencias que de él se derivan. \nLa medida se anuncia coincidiendo con la visita guiada que realiza hoy Manuel Olveira\, comisario de la muestra y director del museo\, a un grupo de miembros de la Asociación de Amigos del Camino de Santiago de León ‘Pulchra Leonina’\, colaboradora del proyecto. \n‘Muchos caminos’  trata de dar cuenta del estado del Camino y su sentido en la actualidad a través de 88 obras de 46  artistas nacionales e internacionales -principalmente fotografía y vídeo\, pero también instalación\, pintura o escultura-\, bien vinculadas directamente con la peregrinación\, bien relacionadas con el paisaje\, la mística\, la historia de las religiones\, el arte\, los sucesos históricos que han afectado al Camino de Santiago o la realidad actual de las zonas rurales atravesadas por la ruta jacobea. \n \nInformación práctica \n\nMuchos caminos. Imágenes contemporáneas del Camino de Santiago\n\n  \nArtistas: Eugenio Ampudia\, Javier Ayarza\, Jorge Barbi\, Bleda y Rosa\, Carlos Beltrán\, Zoulikha Bouabdellah\, Enrique Carbó\, Amando Casado\, Rosendo Cid\, Carlos Cuenllas\, Gabriel Díaz\, Francisco Felipe\, Esther Ferrer\, Antonio Fiorentino\, Roland Fischer\, Pedro Garhel\, Carlos de Gredos\, Rubén Grilo\, José Antonio Juárez / Jesús Palmero\, Francisco Leiro\, Xurxo Lobato\, Ángel Marcos\, Manuel Martín\, Luis Melón\, Mariona Moncunill\, Vik Muniz\, Jorge Oteiza\, Peyrotau & Sediles\, Begoña Pérez\, Concha Pérez\, Rodrigo Petrella\, Andrés Pinal\, Cristina Pimentel / Jesús Palmero\, Alejandro Plaza\, Jesús R. R.\, Humberto Rivas\, Mapi Rivera\, Nina Rhode\, José Luis Romaní\, Francisco Javier Sáenz de Oiza\, Roman Signer\, José Val del Omar\, Juan Villoria\, José Luis Viñas\, Sophie Whettnall\, Peter Wüthrich\, Kiyoshi Yamaoka \nComisariado: Manuel Olveira \nFechas:  20 de enero – 2 de septiembre de 2018 \nLugar: MUSAC. Salas 4 y 5 \nProyecto co-producido con: Embajada de España en Italia\, Real Academia de España en Roma \nCon la colaboración de: Federación Española de Asociaciones de Amigos del Camino de Santiago y Asociación de Amigos del Camino de Santiago de León «Pulchra Leonina» \n 
URL:https://leoncultural.com/evento/los-peregrinos-disfrutaran-de-entrada-gratuita-a-la-exposicion-muchos-caminos-imagenes-contemporaneas-del-camino-de-santiago-en-el-musac/
LOCATION:MUSAC
CATEGORIES:MUSAC,Visitas guiadas
ATTACH;FMTTYPE=image/jpeg:https://leoncultural.com/wp-content/uploads/2018/01/MUCHOS-CAMINOS.jpg
END:VEVENT
END:VCALENDAR