BEGIN:VCALENDAR
VERSION:2.0
PRODID:-//León Cultural - ECPv5.16.4.1//NONSGML v1.0//EN
CALSCALE:GREGORIAN
METHOD:PUBLISH
X-WR-CALNAME:León Cultural
X-ORIGINAL-URL:https://leoncultural.com
X-WR-CALDESC:Eventos para León Cultural
BEGIN:VTIMEZONE
TZID:Europe/Paris
BEGIN:DAYLIGHT
TZOFFSETFROM:+0100
TZOFFSETTO:+0200
TZNAME:CEST
DTSTART:20250330T010000
END:DAYLIGHT
BEGIN:STANDARD
TZOFFSETFROM:+0200
TZOFFSETTO:+0100
TZNAME:CET
DTSTART:20251026T010000
END:STANDARD
END:VTIMEZONE
BEGIN:VEVENT
DTSTART;TZID=Europe/Paris:20250719T200000
DTEND;TZID=Europe/Paris:20250719T230000
DTSTAMP:20260422T122545
CREATED:20250717T155932Z
LAST-MODIFIED:20250717T155932Z
UID:57084-1752955200-1752966000@leoncultural.com
SUMMARY:Los Fueros de Alfonso V. Villafeliz
DESCRIPTION:Los Fueros de Alfonso V.\nVillafeliz\n19 de julio\, 20 h\nLectura de los Fueros 20:00 horas\nExplanada de la Iglesia Parroquial de Villafeliz \nConcierto de música tradicional a cargo de «Rodri» 21:30 horas\nExplanada de la Iglesia Parroquial de Villafeliz \nDECRETOS DEL REY ALFONSO Y DE LA REINA ELVIRA\nEl 30 de julio del año 1017\, en presencia del rey Alfonso y de su\nesposa la reina Elvira nos reunimos en León en la sede de Santa\nMaría todos los obispos\, abades y magnates del reino de Hispania\ny por mandato de dicho rey decretamos las siguientes disposiciones\,\npara que se observen firmemente en los tiempos venideros\nPRECEPTO 21\nEstablecemos también que la ciudad de León\, que fue devastada\npor los sarracenos en los días de mi padre el rey Vermudo\, sea\nrepoblada por estos fueros subscritos y que nunca jamás sean\nviolentados. Mandamos\, pues\, que ningún junior\, tonelero\,\ntejedor que venga a morar a León sea sacado de aquí.\nPRECEPTO 29\nTodos los hombres que habitan dentro de los siguientes términos:\npor Santa Marta\, Quintanillas del camino de Cea\, Cifuentes\,\nVilloria\, Villafeliz\, las Milleras\, Cascantes\, Villavellite\,\nVillar de Mazarife\, el valle de Ardón y San Julián\, a causa de los\nlitigios que tuvieren contra los leoneses vengan a León a pleitear\ncomo demandados o como demandantes\, y en tiempo de guerra y\ndiscordia vengan a León a vigilar las murallas de la ciudad y a\nrestaurarlas lo mismo que los ciudadanos de León\, y no den\nportazgo de todas las cosas que allí vendieren.
URL:https://leoncultural.com/evento/los-fueros-de-alfonso-v-villafeliz/
LOCATION:Villafeliz de la Sobarriba\, Villafeliz de la Sobarriba\, León\, 24195\, Spain
CATEGORIES:Cultura tradicional
ATTACH;FMTTYPE=image/webp:https://leoncultural.com/wp-content/uploads/2025/07/Los-Fueros-de-Alfonso-V.-Villafeliz.webp
END:VEVENT
END:VCALENDAR