BEGIN:VCALENDAR
VERSION:2.0
PRODID:-//León Cultural - ECPv5.16.4.1//NONSGML v1.0//EN
CALSCALE:GREGORIAN
METHOD:PUBLISH
X-WR-CALNAME:León Cultural
X-ORIGINAL-URL:https://leoncultural.com
X-WR-CALDESC:Eventos para León Cultural
BEGIN:VTIMEZONE
TZID:Europe/Paris
BEGIN:DAYLIGHT
TZOFFSETFROM:+0100
TZOFFSETTO:+0200
TZNAME:CEST
DTSTART:20180325T010000
END:DAYLIGHT
BEGIN:STANDARD
TZOFFSETFROM:+0200
TZOFFSETTO:+0100
TZNAME:CET
DTSTART:20181028T010000
END:STANDARD
END:VTIMEZONE
BEGIN:VEVENT
DTSTART;TZID=Europe/Paris:20180226T173000
DTEND;TZID=Europe/Paris:20180226T183000
DTSTAMP:20260420T114848
CREATED:20180226T084825Z
LAST-MODIFIED:20180226T085017Z
UID:16986-1519666200-1519669800@leoncultural.com
SUMMARY:'Leyendas Mexicanas' Punto de lectura la Imaculada
DESCRIPTION:Hoy 26 de febrero a las 17:30 horas tiene lugar el cuentacuentos «Leyendas Mexicanas»\, a cargo de Ángeles Rodríguez\, en Punto de Lectura La Inmaculada.
URL:https://leoncultural.com/evento/leyendas-mexicanas-punto-de-lectura-la-imaculada/
LOCATION:Centro Cívico Ventas Oeste\, Calle Nazareth\, 34\, León\, León\, 24008\, España
CATEGORIES:Infantil
ATTACH;FMTTYPE=image/jpeg:https://leoncultural.com/wp-content/uploads/2018/02/mexicanas.jpg
END:VEVENT
END:VCALENDAR