BEGIN:VCALENDAR
VERSION:2.0
PRODID:-//León Cultural - ECPv5.16.4.1//NONSGML v1.0//EN
CALSCALE:GREGORIAN
METHOD:PUBLISH
X-WR-CALNAME:León Cultural
X-ORIGINAL-URL:https://leoncultural.com
X-WR-CALDESC:Eventos para León Cultural
BEGIN:VTIMEZONE
TZID:Europe/Paris
BEGIN:DAYLIGHT
TZOFFSETFROM:+0100
TZOFFSETTO:+0200
TZNAME:CEST
DTSTART:20180325T010000
END:DAYLIGHT
BEGIN:STANDARD
TZOFFSETFROM:+0200
TZOFFSETTO:+0100
TZNAME:CET
DTSTART:20181028T010000
END:STANDARD
END:VTIMEZONE
BEGIN:VEVENT
DTSTART;TZID=Europe/Paris:20181221T180000
DTEND;TZID=Europe/Paris:20181221T193000
DTSTAMP:20260422T151736
CREATED:20180926T165347Z
LAST-MODIFIED:20181221T055252Z
UID:22328-1545415200-1545420600@leoncultural.com
SUMMARY:León en Vela 2018. Itinerario  de murales en León de Vela Zanetti
DESCRIPTION:León en Vela 2018. Itinerario de murales en León de Vela Zanetti      \nViernes 21 de diciembre \n\n\n\n\nVisita en la Fundación Vela Zanetti. Haremos un recorrido por las diferentes etapas del artista con su obra de caballete cedida al museo\, los bocetos originales del mural que el artista plasmó en la sede de la ONU\, así como el mural «EL GRAN PARNASO ESPAÑOL» (mural que inicia la ruta).\nSALIDA 18.00h. FUNDACIÓN VELA ZANETTI\n\n   Viernes 28 de septiembre \n\n  LA SOMBRA Y LA LUZ. Ubicación: Colegio Marista San José. Calle Álvaro López Núñez no 12.\n  LA CULTURA. Ubicación: Colegio Leonés. Plaza de San Isidoro no 6.\nSALIDA: 18.00H. COLEGIO MARISTAS SAN JOSÉ\n\nViernes 26 de octubre \n\n  EL HOMBRE QUEMÁNDOSE EN LA HISTORIA Y EL CORTEJO DE LOS REYES DE LEÓN. Ubicación: Antiguo Consistorio Leonés. Plaza de San Marcelo.\n  LA HISTORIA DE DON SUERO. Ubicación: Hotel Conde Luna. Calle Independencia no 7.\nSALIDA: 18.00h. ANTIGUO CONSISTORIO DE SAN MARCELO\n\nViernes 23 de noviembre \n\n  JESÚS DIVINO OBRERO. Ubicación: Iglesia de Jesús Divino Obrero. Calle Víctor de los Ríos no 25.\n  HISTORIA DEL COMERCIO. Ubicación: Centro de Idiomas de la ULE. Jardín de San Francisco s/n\n.SALIDA: 18.00H. IGLESIA DE JESÚS DIVINO OBRERO
URL:https://leoncultural.com/evento/leon-en-vela-2018-itinerario-de-murales-en-leon-de-vela-zanetti/
LOCATION:Iglesia Jesús Divino Obrero\, Calle Víctor de los Ríos\, 25\, León\, León\, 24006
CATEGORIES:Visitas guiadas
ATTACH;FMTTYPE=image/jpeg:https://leoncultural.com/wp-content/uploads/2016/03/Vela-Zanetti-e1626782941340.jpg
END:VEVENT
END:VCALENDAR