BEGIN:VCALENDAR
VERSION:2.0
PRODID:-//León Cultural - ECPv5.16.4.1//NONSGML v1.0//EN
CALSCALE:GREGORIAN
METHOD:PUBLISH
X-WR-CALNAME:León Cultural
X-ORIGINAL-URL:https://leoncultural.com
X-WR-CALDESC:Eventos para León Cultural
BEGIN:VTIMEZONE
TZID:Europe/Paris
BEGIN:DAYLIGHT
TZOFFSETFROM:+0100
TZOFFSETTO:+0200
TZNAME:CEST
DTSTART:20190331T010000
END:DAYLIGHT
BEGIN:STANDARD
TZOFFSETFROM:+0200
TZOFFSETTO:+0100
TZNAME:CET
DTSTART:20191027T010000
END:STANDARD
END:VTIMEZONE
BEGIN:VEVENT
DTSTART;TZID=Europe/Paris:20190915T133000
DTEND;TZID=Europe/Paris:20190915T153000
DTSTAMP:20260423T104808
CREATED:20190216T123053Z
LAST-MODIFIED:20190915T062337Z
UID:25995-1568554200-1568561400@leoncultural.com
SUMMARY:Performance Transbordo Espacial de la mano de la Orquesta Juventudes Musicales. MUSAC
DESCRIPTION:Performance Transbordo Espacial de la mano de la Orquesta Juventudes Musicales\nDomingo 15 de septiembre\, 13:30 h.\nEntrada gratuita hasta completar aforo.\nTrasbordo espacial (música paseada) es una obra plástica de suelo de gran formato (305 x 1200 cm) del artista cántabro Pelayo Fernández Arrizabalaga que indaga en las grafías y recursos notacionales que buscan hacer posible una nueva expresividad sonora y que\, de paso\, refuerzan el interés puramente visual de esas creaciones. \nLa pieza constituye una partitura gráfica de gran formato\, en la que las notas musicales y los parámetros ( dinámica\, intervalos y sucombinatoria) se codifican en base a colores\, líneas\, letras y anotaciones gráficas de diversa naturaleza. \nLos 12 colores representan las 12 notas de la escala cromática y su código está basado en estudios realizados por el autor de las relaciones entre el círculo cromático de colores y el círculo de quintas de la armonía musical. \nLa dinámica (intensidad del sonido) está determinada por el grosor de la líneas\, a mayor grosor de la línea – mayor volumen\, el pianísimo por el contrario con línea muy fina. \nLas letras corresponden a las letras empleadas internacionalmente como notas de la escala y representan las coordenadas de situación de los puntos de encuentro entre las líneas. Estos puntos de encuentro son como las estaciones de una red de transporte y sirven para parar e interpretar una improvisación o melodía en base a esas notas escritas ( las flechas\, hacia arriba o abajo indican las octavas). También esos puntos de encuentro permiten al intérprete decidir si cambia o no de dirección en su recorrido. \nPara la realización de la performance\, un ensemble musical de la Orquesta Juventudes Musicales-Universidad de León dará vida a pieza del artista\, decodificando y traduciendo\, con la ayuda e instrucciones de Fernandez Arrizabalaga\, las grafías plásticas en interpretaciones musicales. La activación de la pieza\, tal y como sugiere su subtítulo —música paseada— conlleva en su decodificación la interpretación musical improvisada derivada del movimiento físico de los músicos sobre la superficie de la obra. Cada músico partirá de un punto físico diferente interpretando la partitura\, y realizarán parada y «trasbordo» cada vez que las líneas confluyan\, generando así un recorrido físico y un resultado musical único cada vez que sea active la pieza.
URL:https://leoncultural.com/evento/la-musica-paseada-llega-al-musac-con-el-performance-transbordo-espacial-de-la-mano-de-la-orquesta-juventudes-musicales/
LOCATION:MUSAC
CATEGORIES:MUSAC,Música
ATTACH;FMTTYPE=image/jpeg:https://leoncultural.com/wp-content/uploads/2019/02/MUSAC-LA-MUSICA-PASEADA.jpg
END:VEVENT
END:VCALENDAR