BEGIN:VCALENDAR
VERSION:2.0
PRODID:-//León Cultural - ECPv5.16.4.1//NONSGML v1.0//EN
CALSCALE:GREGORIAN
METHOD:PUBLISH
X-WR-CALNAME:León Cultural
X-ORIGINAL-URL:https://leoncultural.com
X-WR-CALDESC:Eventos para León Cultural
BEGIN:VTIMEZONE
TZID:Europe/Paris
BEGIN:DAYLIGHT
TZOFFSETFROM:+0100
TZOFFSETTO:+0200
TZNAME:CEST
DTSTART:20250330T010000
END:DAYLIGHT
BEGIN:STANDARD
TZOFFSETFROM:+0200
TZOFFSETTO:+0100
TZNAME:CET
DTSTART:20251026T010000
END:STANDARD
END:VTIMEZONE
BEGIN:VEVENT
DTSTART;TZID=Europe/Paris:20251003T190000
DTEND;TZID=Europe/Paris:20251003T203000
DTSTAMP:20260422T110504
CREATED:20250929T065158Z
LAST-MODIFIED:20250929T065158Z
UID:57556-1759518000-1759523400@leoncultural.com
SUMMARY:"La Historia del Comercio" de Vela Zanetti. Centro de idiomas ULE
DESCRIPTION:«La Historia del Comercio» de Vela Zanetti.\nCentro de idiomas ULE\nVisita guiada a cargo de Yolanda Gutierrez Villa\n3 de octubre de 2025\, 19 h\nDespués del verano se retoman en León las visitas a los murales del pintor Vela Zanetti. La próxima será el día 3 de octubre a las19:00h en el Centro de Idiomas de la Universidad de León en la Plaza Jardín de San Francisco\, antigua Escuela de Comercio de León.\nLa obra que se presenta: «La Historia del Comercio»\, será analizada por la profesora Dñª Yolanda Gutierrez Villa quien\, como viene siendo habitual\, nos ofrece una magnífica interpretación y explicación técnica de todo lo que acontece en esta y otras obras del pintor.\nColaboran con Sofcaple el Ayuntamiento de León y la Fundación Vela Zanetti.
URL:https://leoncultural.com/evento/la-historia-del-comercio-de-vela-zanetti-centro-de-idiomas-ule/
LOCATION:Centro de idiomas ULE\, Jardín de San Francisco s/n\, Edificio Centro de idiomas de la Universidad de León\, León\, León\, 24004\, España
CATEGORIES:Pintura,Visitas guiadas
ATTACH;FMTTYPE=image/webp:https://leoncultural.com/wp-content/uploads/2025/09/La-Historia-del-Comercio-VELA-ZANETTI.webp
END:VEVENT
END:VCALENDAR