BEGIN:VCALENDAR
VERSION:2.0
PRODID:-//León Cultural - ECPv5.16.4.1//NONSGML v1.0//EN
CALSCALE:GREGORIAN
METHOD:PUBLISH
X-WR-CALNAME:León Cultural
X-ORIGINAL-URL:https://leoncultural.com
X-WR-CALDESC:Eventos para León Cultural
BEGIN:VTIMEZONE
TZID:Europe/Paris
BEGIN:DAYLIGHT
TZOFFSETFROM:+0100
TZOFFSETTO:+0200
TZNAME:CEST
DTSTART:20260329T010000
END:DAYLIGHT
BEGIN:STANDARD
TZOFFSETFROM:+0200
TZOFFSETTO:+0100
TZNAME:CET
DTSTART:20261025T010000
END:STANDARD
END:VTIMEZONE
BEGIN:VEVENT
DTSTART;TZID=Europe/Paris:20260228T220000
DTEND;TZID=Europe/Paris:20260228T233000
DTSTAMP:20260423T110115
CREATED:20251222T192550Z
LAST-MODIFIED:20251222T192550Z
UID:58315-1772316000-1772321400@leoncultural.com
SUMMARY:La Fuga. Gira 2026. Espacio Vías
DESCRIPTION:La Fuga. Gira 2026.\nEspacio Vías\n28 de febrero de 2026\, 22 h\n 
URL:https://leoncultural.com/evento/la-fuga-gira-2026-espacio-vias/
LOCATION:Espacio VIAS\, Av del Padre Isla\, 48\, León\, León\, 24008 \, España
CATEGORIES:Conciertos,Música
ATTACH;FMTTYPE=image/webp:https://leoncultural.com/wp-content/uploads/2025/12/La-Fuga.-Gira-2026.-0DEspacio-Vias.webp
END:VEVENT
END:VCALENDAR