BEGIN:VCALENDAR
VERSION:2.0
PRODID:-//León Cultural - ECPv5.16.4.1//NONSGML v1.0//EN
CALSCALE:GREGORIAN
METHOD:PUBLISH
X-WR-CALNAME:León Cultural
X-ORIGINAL-URL:https://leoncultural.com
X-WR-CALDESC:Eventos para León Cultural
BEGIN:VTIMEZONE
TZID:Europe/Paris
BEGIN:DAYLIGHT
TZOFFSETFROM:+0100
TZOFFSETTO:+0200
TZNAME:CEST
DTSTART:20180325T010000
END:DAYLIGHT
BEGIN:STANDARD
TZOFFSETFROM:+0200
TZOFFSETTO:+0100
TZNAME:CET
DTSTART:20181028T010000
END:STANDARD
END:VTIMEZONE
BEGIN:VEVENT
DTSTART;TZID=Europe/Paris:20180405T210000
DTEND;TZID=Europe/Paris:20180405T223000
DTSTAMP:20260424T144123
CREATED:20180330T092654Z
LAST-MODIFIED:20180330T092654Z
UID:17881-1522962000-1522967400@leoncultural.com
SUMMARY:'La correspondencia personal de Federico García Lorca'  de Histrión teatro. Auditorio municipal Ciudad de León
DESCRIPTION:‘La correspondencia personal de Federico García Lorca’ de Histrión teatro.\nAuditorio municipal Ciudad de León\n5 de abril de 2018 a las 21:00 horas \n‘Lorca. La correspondencia personal’\nTeatro de Adultos\nCompañía: Histrión Teatro\nAutor: Federico García Lorca\nDirección: Juan Carlos Rubio\nReparto: Gema Matarranz y Alejandro Vera\nPrecio:  10 €\nDuración: 85 minutos\nHora: 21:00\n\nJuan Carlos Rubio:\nMe fascina Lorca como escritor. Y me fascina Lorca como individuo. Y un buen día encontré el material que une su faceta profesional con la personal: su correspondencia. Hallé cartas tristes\, burlonas\, irónicas\, teatrales\, surrealistas y de un realismo hiriente y fascinante. Con todo este material he construido este espectáculo\, un puzle sin complejos\, un homenaje sin fisuras a la poética y la tragedia en la vida y obra de Federico García Lorca\, un espectáculo que solo puedo concebir crear de la mano de una compañía teatral tan sólida y talentosa como histrión. Juntos navegaremos por la sangre de Federico\, que por suerte y por desgracia\, sigue más fresca que nunca 80 años después de haber sido derramada.\nUn recorrido poético\, alegre y triste\, vital y desesperado\, amargo y dulce\,  en el que  las cartas que envió a los seres amados se convierten en el hilo conductor. Un Lorca desdoblado en hombre y mujer\, con esa dualidad que siempre le acompañó. Dos  actores serán los vehículos perfectos para esta narración\, en ese bucle de teatro dentro del teatro que Federico acarició tantas veces\, una realidad que nace y se multiplica  para  terminar llevándonos  a un mismo lugar.
URL:https://leoncultural.com/evento/la-correspondencia-personal-de-federico-garcia-lorca-de-histrion-teatro-auditorio-municipal-ciudad-de-leon/
LOCATION:Auditorio Ciudad de León\, Av. de los Reyes Leoneses\, 4\, 24008 León\, León\, León\, 24008\, España
CATEGORIES:Teatro
ATTACH;FMTTYPE=image/jpeg:https://leoncultural.com/wp-content/uploads/2018/03/Lorca-la-correspondencia-personal-Histrion-Teatro.jpg
END:VEVENT
END:VCALENDAR