BEGIN:VCALENDAR
VERSION:2.0
PRODID:-//León Cultural - ECPv5.16.4.1//NONSGML v1.0//EN
CALSCALE:GREGORIAN
METHOD:PUBLISH
X-WR-CALNAME:León Cultural
X-ORIGINAL-URL:https://leoncultural.com
X-WR-CALDESC:Eventos para León Cultural
BEGIN:VTIMEZONE
TZID:Europe/Paris
BEGIN:DAYLIGHT
TZOFFSETFROM:+0100
TZOFFSETTO:+0200
TZNAME:CEST
DTSTART:20220327T010000
END:DAYLIGHT
BEGIN:STANDARD
TZOFFSETFROM:+0200
TZOFFSETTO:+0100
TZNAME:CET
DTSTART:20221030T010000
END:STANDARD
END:VTIMEZONE
BEGIN:VEVENT
DTSTART;TZID=Europe/Paris:20221220T203000
DTEND;TZID=Europe/Paris:20221220T220000
DTSTAMP:20260422T163640
CREATED:20221219T185339Z
LAST-MODIFIED:20221219T185339Z
UID:44974-1671568200-1671573600@leoncultural.com
SUMMARY:Karaoke Paradise. Documental del mes. El Albéitar.
DESCRIPTION:Karaoke Paradise.\nDocumental del mes.\nEl Albéitar.\nMartes 20\, diciembre 2022\, 20:3o h\n \nINVITACIONES: a partir de 15 minutos antes del comienzo en la taquilla del teatro \nEL DOCUMENTAL DEL MES «Karaoke Paradise» \nFinlandia (2022). 75 minutos. \nV.O. en finés\, subtitulada en castellano. \n:: Logline \nQuien canta\, sus males espanta. El gélido paisaje de Finlandia esconde una pasión contagiosa por los karaokes. Garajes\, bares\, el salón de casa… Todo el mundo es bienvenido. \n:: Sinopsis corta \nCaras\, lugares y canciones cantadas con el alma. Un divertido retrato de la pasión finlandesa por los karaokes. Entre la joya y la melancolía\, un recorrido por una Finlandia escondida tras el tópico de país gélido. \nCantar permite expresar las emociones\, pero\, para hacerlo\, es necesario tener sentido del humor. Garajes\, bares\, el salón de casa… Todo el mundo es bienvenido a participar en la fiesta de los karaokes finlandeses. \n:: La historia \nCaras\, lugares y canciones cantadas con el alma. Un divertido retrato de la pasión finlandesa por los karaokes. Cada personaje de este entrañable documental tiene una historia por compartir. Los karaokes son el antídoto contra la soledad y una medicina para disfrutar en comunidad sin grandes pretensiones. \nViajaremos por una Finlandia escondida tras el tópico de un país gélido e inhóspito. El cineasta Einari Paakkanen nos muestra pequeños fragmentos memorables de la vida. Cantar permite expresar emociones\, pero\, para hacerlo\, es necesario tener sentido del humor. Garajes\, bares\, el salón de casa… todo el mundo es bienvenido a participar en la fiesta de los karaokes finlandeses. \n:: El director \nEl director Einari Paakkanen se licenció en Artes por la Universidad de Ciencias Aplicadas de Turku (Academia de Artes) e hizo el máster en Dirección de Documentales en Barcelona. Fue antiguo alumno de la Berlinale Talents en el año 2018. Ha dirigido tanto películas de ficción como documentales. Además de ser director de cine\, Einari es uno de los mejores gestores de ubicaciones de Finlandia y poeta. Su filmografía es: My Father From Sirius (80 min\, documental\, 2016)\, Cross Country (55 min\, documental\, 2018) y Where is Thon? (6 min\, ficción animada\, 2016). \n:: Ficha técnica \nGuion y Dirección: Einari Paakkanen \nEdición: Antti Reikko & Einari Paakkanen \nDiseño de sonido: Pietu Karhonen \nProducción: Marianne Mäkelä \nDistribución: DocsBarcelona Distribution \n:: Premios y festivales \n• CPH:DOX\, Dinamarca\, 2022 \n• Visions Du Réel\, Suiza\, 2022
URL:https://leoncultural.com/evento/karaoke-paradise-documental-del-mes-el-albeitar/
LOCATION:El Albéitar\, Calle Covadonga\, Calle Luis de Sosa\, esquina\, León\, León\, 24004\, España
CATEGORIES:Documental
ATTACH;FMTTYPE=image/jpeg:https://leoncultural.com/wp-content/uploads/2022/12/karaoke-paradise-el-albeitar.jpg
END:VEVENT
END:VCALENDAR