BEGIN:VCALENDAR
VERSION:2.0
PRODID:-//León Cultural - ECPv5.16.4.1//NONSGML v1.0//EN
CALSCALE:GREGORIAN
METHOD:PUBLISH
X-WR-CALNAME:León Cultural
X-ORIGINAL-URL:https://leoncultural.com
X-WR-CALDESC:Eventos para León Cultural
BEGIN:VTIMEZONE
TZID:Europe/Paris
BEGIN:DAYLIGHT
TZOFFSETFROM:+0100
TZOFFSETTO:+0200
TZNAME:CEST
DTSTART:20240331T010000
END:DAYLIGHT
BEGIN:STANDARD
TZOFFSETFROM:+0200
TZOFFSETTO:+0100
TZNAME:CET
DTSTART:20241027T010000
END:STANDARD
END:VTIMEZONE
BEGIN:VEVENT
DTSTART;TZID=Europe/Paris:20240217T200000
DTEND;TZID=Europe/Paris:20240217T230000
DTSTAMP:20260422T164907
CREATED:20240203T104350Z
LAST-MODIFIED:20240217T153509Z
UID:50464-1708200000-1708210800@leoncultural.com
SUMMARY:II semana de la montaña. Ayto de Villaquilambre. Casa de cultura de Navajera
DESCRIPTION:II semana de la montaña. Ayto de Villaquilambre.\nCasa de cultura de Navajera\n15\, 16 y 17 de febrero de 2024\nJueves 15\, 20 h\nAurelio Presa Díez\nAños  de trabajo altruista\, dedicación\, ilusión y un pilar de 4 patas. \nViernes 16\, 18:30 h\nValentín Costo\nBOLIVIA «EL corazón de Los Andes» Expedición en lo cordillera Real subiendo El pico Austria de 5.300 m.. el pico Tarija de 5.400 m\, y el Huyana Potosi de 6.088 m. Bolivia es un pais de contrastes con una naturaleza impresionante Nosotros visitamos el salar de Uyuni\, los desiertos con sus lagunas saladas plagadas de flamencos\, la cordillera Real el lago Titicaca y balamos en bicicleta la carretera de lo muerte\, una actividad vertiginosa que te lleva del altiplano hasta la parte amazónica y nos mezclamos con sus gentes en lo fiesta de lo Pachamama o madre tierra. Bolivia una tierra con mucho Corazón. \nViernes 16\, 18:30 h\nFilandón\nCon Vicente García\, Isidoro Rodríguez Cubillas\, Cristino Torío\, Juan Antonio Valbuena (Chepo)\, Adelino Campos (Adelo) y Ángel Ledesma \nLa historia del Montañismo es de corto recorndo. ya que hace poco más de un siglo que se inició como deporte en nuestro pais. En León\, a pesar de las primeras ascensiones a montañas como la Torre de Salinas\, el Llambrión. Torrecererredo. Torre Santa y la posterior al Naranjo en la que hubo participación de leoneses\, fue el grupo en el que se destaca a Diego Mella\, quien capitalizó el interés en la primera década del siglo pasado hasta los años setenta. y a partir de entonces el Alpinismo Leonés comenzó a tener presencia en todas las montañas del mundo. \nSábado 17\, 9:30 h\nRuta en Faedo de Orzonaga:\nLa Ruta de la mata del té \nDistancia: 8\,74 kms\nDesnivel positivo: 252 m\nDesnivel negativo: 252 m\nDificultad: fácil\nAltura máxima alcanzada: 1250 m\nAltitud mínima: 943 m\nTipo de ruta: circular\nTiempo aproximado: 3 horas y media
URL:https://leoncultural.com/evento/ii-semana-de-la-montana-ayto-de-villaquilambre-casa-de-cultura-de-navajera/
LOCATION:Casa de cultura de Navatejera\, Navatejera\, León\, 24193\, España
CATEGORIES:Deporte,Ponencias
ATTACH;FMTTYPE=image/jpeg:https://leoncultural.com/wp-content/uploads/2024/02/II-semana-de-la-montana.-Ayto-de-Villaquilambre.-Casa-de-cultura-de-Navajera.jpg
END:VEVENT
END:VCALENDAR