BEGIN:VCALENDAR
VERSION:2.0
PRODID:-//León Cultural - ECPv5.16.4.1//NONSGML v1.0//EN
CALSCALE:GREGORIAN
METHOD:PUBLISH
X-WR-CALNAME:León Cultural
X-ORIGINAL-URL:https://leoncultural.com
X-WR-CALDESC:Eventos para León Cultural
BEGIN:VTIMEZONE
TZID:Europe/Paris
BEGIN:DAYLIGHT
TZOFFSETFROM:+0100
TZOFFSETTO:+0200
TZNAME:CEST
DTSTART:20230326T010000
END:DAYLIGHT
BEGIN:STANDARD
TZOFFSETFROM:+0200
TZOFFSETTO:+0100
TZNAME:CET
DTSTART:20231029T010000
END:STANDARD
END:VTIMEZONE
BEGIN:VEVENT
DTSTART;TZID=Europe/Paris:20231110T190000
DTEND;TZID=Europe/Paris:20231110T203000
DTSTAMP:20260424T120841
CREATED:20231109T071615Z
LAST-MODIFIED:20231109T071615Z
UID:49293-1699642800-1699648200@leoncultural.com
SUMMARY:"Helena" Presentación del poemario de Luis Artigue. Salón de actos del Ayto de León
DESCRIPTION:«Helena» Presentación del poemario de Luis Artigue.\nSalón de actos del Ayto de León\nViernes 10\, noviembre 2023\, 19 h\nEl autor estará acompañado por el pintor Adolfo Álvarez Barthe.\nEl libro ha sido publicado por Eolas ediciones dentro de la colección de poesía “Seinne” \nNo quería hablar directamente de Helena y su sufrimiento\, pues tenía muy presente eso que dice Susan Sontag en La enfermedad y sus metáforas: «Se trata de luchar contra ese discurso decimonónico nihilista y sentimental que juzgaba atractivo el sufrimiento femenino; el que puso en valor la idea de que mostrarse triste –es decir\, impotente– era una señal de refinamiento y de sensibilidad\, y tal atractivo debía traducirse a menudo en enfermedad: la tristeza y la tuberculosis casi como sinónimos\, y como bienes codiciados (la tristeza era interesante y la enfermedad se ponía a su servicio proporcionando\, no sólo una causa\, sino  también síntomas y metáforas)»… Más bien este libro habla de que de repente \nconoces a alguien de quien no puedes pasar por mucho que lo intentes. Alguien que\, como decía Borges\, hace de todo el universo una alusión a una persona para ti indudable. Y te haces uno con ella durante veintitrés años. Y tenéis una hija. Y bailáis juntos por la vida pasando juntos por todo. Y de repente tienes que enfrentarte a su desaparición súbita\, lo cual es para ti peor que una amputación. Y\, como Dante\, vas por ella hasta el infierno mismo\, y vuelves con una verdad que pide verso gritando lo mismo que Homero gritó sobre Helena de Troya: ¡Contemplad el rostro de la mujer que hizo zarpar mil barcos!». Y entonces \nsabes que la poesía sirve\, cura\, rescata y da la vida. \n\n«HAY algo muy humano en la rebelde y reveladora poesía de Luis Artigue que propende al ideal de la compasión perfecta». \nAntonio Martínez Sarrión
URL:https://leoncultural.com/evento/helena-presentacion-del-poemario-de-luis-artigue-salon-de-actos-del-ayto-de-leon/
LOCATION:Salón de actos. Ayuntamiento de León\, Calle Alfonso V 3\, León\, León\, 24003\, España
CATEGORIES:Presentaciones
ATTACH;FMTTYPE=image/jpeg:https://leoncultural.com/wp-content/uploads/2023/11/HELENA-LUIS-ARTIGUE.jpg
END:VEVENT
END:VCALENDAR