BEGIN:VCALENDAR
VERSION:2.0
PRODID:-//León Cultural - ECPv5.16.4.1//NONSGML v1.0//EN
CALSCALE:GREGORIAN
METHOD:PUBLISH
X-WR-CALNAME:León Cultural
X-ORIGINAL-URL:https://leoncultural.com
X-WR-CALDESC:Eventos para León Cultural
BEGIN:VTIMEZONE
TZID:Europe/Paris
BEGIN:DAYLIGHT
TZOFFSETFROM:+0100
TZOFFSETTO:+0200
TZNAME:CEST
DTSTART:20240331T010000
END:DAYLIGHT
BEGIN:STANDARD
TZOFFSETFROM:+0200
TZOFFSETTO:+0100
TZNAME:CET
DTSTART:20241027T010000
END:STANDARD
END:VTIMEZONE
BEGIN:VEVENT
DTSTART;TZID=Europe/Paris:20241215T193000
DTEND;TZID=Europe/Paris:20241215T210000
DTSTAMP:20260424T104248
CREATED:20241212T155838Z
LAST-MODIFIED:20241212T155838Z
UID:54643-1734291000-1734296400@leoncultural.com
SUMMARY:Guitarra: Eleonora Perretta (Italia). Sala Eutherpe
DESCRIPTION:Guitarra: Eleonora Perretta (Italia).\nSala Eutherpe\nDomingo 15 diciembre 2024\, 19:30 h\n \nPrograma \nDomenico Scarlatti (1685-1757) \n– K. 178\, Sonata en re mayor\, Vivo \n-K. 213 Sonata en re menor\, Andante \nIsaac Albéniz (1869-1909) \n– Mallorca \n– Sevilla\, de la Suite Española Op. 47 \nErnesto Nazareth (1863-1934) \n-Escorregando \nChick Corea (1941-2021) \n-Prelude To El Bozo (Trascr. by E. Perretta) \nLeo Brouwer (1938 -) \n– Sonata \nEleonora Perretta \n«Una joven guitarrista de enorme talento.» ~ Critica Classica \n«Gran versatilidad\, un sonido claro e impecable\, una técnica notable» ~ Marco Del Vaglio \nLas reuniones familiares de creación musical eran especiales para Eleonora Perretta. Tocar la batería a la edad de dos años acompañada de su tío tocando la guitarra y su tía cantando y bailando sigue siendo un hermoso recuerdo para ella. Ya sea que esté tocando a Bach\, Jobim\, Scarlatti o Joe Pass\, sigue siendo la espontaneidad y el compartir la creación musical lo que está en el corazón de su ser. \nAunque joven\, la guitarrista clásica italiana Eleonora Perretta ha actuado en salas de conciertos de toda Europa\, como la Sala de Conciertos Musikverein de Viena (Austria)\, la Sala de Conciertos de la Filarmónica de Tallin (Estonia) y la Sala de Conciertos del Real Conservatorio de Bruselas (Bélgica). Las actuaciones anteriores de Eleonora Perretta incluyen también compromisos en los principales festivales de música de Europa\, como el Festival Internacional de Guitarra de Uppsala (Suecia)\, el Festival de Guitarra de Segovia (Italia)\, el Festival de Guitart (Bulgaria)\, el Festival Internacional de Guitarra de Mottola (Italia)\, el Festival de Ravello (Italia)\,el Proyecto Volterra (Italia)\, el Campus Italiano de la Guitarra (Italia). \nEn 2021 se convirtió en Artista de EuroStrings tras ganar el Primer Premio por decisión unánime en el Concurso Internacional de Guitarra de Mottola\, lo que la llevó a una gira europea por cinco países. \nEleonora Perretta se graduó en el Conservatorio de Música Domenico Cimarosa en 2022 con Summa cum Laude\, bajo la dirección de M° Aniello Desiderio. En 2024 completó su segunda Maestría para el programa de Maestría en Artes en Música bajo la dirección de M° Antigoni Goñi\, graduándose con la mayor distinción y recibiendo el premio de la fundación Horlait – Dapsens a la calificación final más alta entre los instrumentos polifónicos. Asistió a Cursos Avanzados con el M° Aniello Desiderio en la Academia Stefano Strata de Pisa y Cursos Avanzados en la Academia de Guitarrade Segovia en Pordenone (Italia) con el M° Paolo Pegoraro. \nEn 2025\, lanzará un álbum a dúo\, Music Gardens Of The World\, junto con el guitarrista clásico de renombre internacional Antigoni Goni bajo Naxos Records\, con música de Dusan Bogdanovic. Además\, lanzará un álbum en solitario centrado en la música española bajo Naxos Sweden Records. \nEleonora ha ganado premios en Concursos Nacionales e Internacionales de Guitarra\, incluyendo el Primer Premio en el Concurso Internacional de Guitarra de Uppsala\, el Internacional del Festival de Mottola y el de Guitarra Eduguitar; el Segundo Premio en el Concurso del Festival de Guitarra de Fiuggi y el Internacional de Guitarra de Uppsala; el Tercer Premio en el Internacional de Guitarra Forum Gitarre Wien y Altamira Gorizia; el Premio de Edición Especial en el Concurso Internacional de Guitarra de Coblenza. \nhttps://www.eleonoraperretta.com/ \nhttps://youtu.be/HhwgmePmuVo?si=YvUI880K6zoZqg4l \nhttps://youtu.be/aIUT-uioZP4?si=CDeTBmDUOJRYUGnG \nhttps://www.youtube.com/watch?v=5gWnVfmf6Fk \n 
URL:https://leoncultural.com/evento/guitarra-eleonora-perretta-italia-sala-eutherpe/
LOCATION:Sala EUTHERPE\, Alfonso V\, 10\, León\, León\, 24001\, España
CATEGORIES:Conciertos,Música
ATTACH;FMTTYPE=image/jpeg:https://leoncultural.com/wp-content/uploads/2024/12/Guitarra-Eleonora-Perretta-Italia.jpg
END:VEVENT
END:VCALENDAR