BEGIN:VCALENDAR
VERSION:2.0
PRODID:-//León Cultural - ECPv5.16.4.1//NONSGML v1.0//EN
CALSCALE:GREGORIAN
METHOD:PUBLISH
X-WR-CALNAME:León Cultural
X-ORIGINAL-URL:https://leoncultural.com
X-WR-CALDESC:Eventos para León Cultural
BEGIN:VTIMEZONE
TZID:Europe/Paris
BEGIN:DAYLIGHT
TZOFFSETFROM:+0100
TZOFFSETTO:+0200
TZNAME:CEST
DTSTART:20250330T010000
END:DAYLIGHT
BEGIN:STANDARD
TZOFFSETFROM:+0200
TZOFFSETTO:+0100
TZNAME:CET
DTSTART:20251026T010000
END:STANDARD
END:VTIMEZONE
BEGIN:VEVENT
DTSTART;TZID=Europe/Paris:20250508T203000
DTEND;TZID=Europe/Paris:20250508T220000
DTSTAMP:20260420T110035
CREATED:20250507T115207Z
LAST-MODIFIED:20250507T115207Z
UID:56406-1746736200-1746741600@leoncultural.com
SUMMARY:Gerard Nieto revive el sonido clásico del Organ Trío en el Festival Abierto de Música de Órgano de León. El Albéitar
DESCRIPTION:Gerard Nieto revive el sonido clásico del Organ Trío en el Festival Abierto de Música de Órgano de León.\nEl Albéitar\nJueves 8 de mayo\, 20:30 h\nEntrada: 6 € / Descuento del 50% para alumnos y personal de la Universidad de León \nEl Festival Abierto de Música de Órgano de León (FAMOL) continúa su programación con una propuesta llena de groove. El próximo jueves 8 de mayo a las 20:30 horas\, el escenario del Teatro El Albéitar acogerá el concierto del prestigioso organista Gerard Nieto\, figura clave del panorama jazzístico nacional e internacional. \nCon una extensa carrera como acompañante de artistas de primer nivel\, Nieto presenta un proyecto que rinde homenaje al vibrante sonido del Organ Trío\, un formato que alcanzó gran popularidad entre las décadas de 1950 y 1970. El espectáculo contará con un cuarteto de lujo: Kike Angulo a la guitarra\, Xavi Hinojosa a la batería y\, como invitado especial en muchos de los temas\, el inconfundible saxofonista tenor Toni Solá\, referente indiscutible del jazz clásico en nuestro país.
URL:https://leoncultural.com/evento/gerard-nieto-revive-el-sonido-clasico-del-organ-trio-en-el-festival-abierto-de-musica-de-organo-de-leon-el-albeitar/
CATEGORIES:Conciertos,Música
ATTACH;FMTTYPE=image/webp:https://leoncultural.com/wp-content/uploads/2025/05/FAMOL-EL-ALBEITAR-GERARD-NIETO.webp
END:VEVENT
END:VCALENDAR