BEGIN:VCALENDAR
VERSION:2.0
PRODID:-//León Cultural - ECPv5.16.4.1//NONSGML v1.0//EN
CALSCALE:GREGORIAN
METHOD:PUBLISH
X-WR-CALNAME:León Cultural
X-ORIGINAL-URL:https://leoncultural.com
X-WR-CALDESC:Eventos para León Cultural
BEGIN:VTIMEZONE
TZID:Europe/Paris
BEGIN:DAYLIGHT
TZOFFSETFROM:+0100
TZOFFSETTO:+0200
TZNAME:CEST
DTSTART:20170326T010000
END:DAYLIGHT
BEGIN:STANDARD
TZOFFSETFROM:+0200
TZOFFSETTO:+0100
TZNAME:CET
DTSTART:20171029T010000
END:STANDARD
END:VTIMEZONE
BEGIN:VEVENT
DTSTART;TZID=Europe/Paris:20170129T173000
DTEND;TZID=Europe/Paris:20170129T190000
DTSTAMP:20260419T164820
CREATED:20170128T062840Z
LAST-MODIFIED:20170128T063846Z
UID:7776-1485711000-1485716400@leoncultural.com
SUMMARY:Gala benéfica de baile. Escuela Rumballet.
DESCRIPTION:Hoy día 29 de Enero de 2017\, a las 17:30 horas\, tendrá lugar la Gala Benéfica de Baile RUMBALLET/AMIDOWN 2017. Se trata de un gran espectáculo de baile en el que participarán parte de los alumnos y profesores de la Escuela de Baile RUMBALLET y tod@s nuestr@s amig@s de AMIDOWN. Se celebrará en el Palacio Municipal de los Deportes de León y tendrá como objetivo principal la colaboración y ayuda a todas aquellas personas que\, directa o indirectamente\, padecen y sufren\, día a día\, el síndrome de Down. \n\nLugar: Palacio Municipal de los Deportes de León\nFecha: 29 de Enero de 2017\nHora: 17:30 horas\nPrecio: 8 euros\nVenta de entradas: Escuela de Baile RUMBALLET y AMIDOWN. \nDesde la Escuela de Baile RUMBALLET esperamos que sea de vuestro agrado y que os animéis a asistir. No sólo se trata de disfrutar y hacer disfrutar\, sino también de ayudar y colaborar con una buena causa. Os esperamos! 
URL:https://leoncultural.com/evento/gala-benefica-baile-escuela-rumballet/
LOCATION:Palacio municipal de deportes\, Avda. Ingeniero Sáenz de Miera s/n\,\, León\, León\, 24009 \, España
CATEGORIES:Baile,Gala
ATTACH;FMTTYPE=image/jpeg:https://leoncultural.com/wp-content/uploads/2017/01/rumballet-GALA-BENEFICA-PALACIO-DE-LOS-DEPORTES-LEON-1.jpg
END:VEVENT
END:VCALENDAR