BEGIN:VCALENDAR
VERSION:2.0
PRODID:-//León Cultural - ECPv5.16.4.1//NONSGML v1.0//EN
CALSCALE:GREGORIAN
METHOD:PUBLISH
X-WR-CALNAME:León Cultural
X-ORIGINAL-URL:https://leoncultural.com
X-WR-CALDESC:Eventos para León Cultural
BEGIN:VTIMEZONE
TZID:Europe/Paris
BEGIN:DAYLIGHT
TZOFFSETFROM:+0100
TZOFFSETTO:+0200
TZNAME:CEST
DTSTART:20160327T010000
END:DAYLIGHT
BEGIN:STANDARD
TZOFFSETFROM:+0200
TZOFFSETTO:+0100
TZNAME:CET
DTSTART:20161030T010000
END:STANDARD
END:VTIMEZONE
BEGIN:VEVENT
DTSTART;TZID=Europe/Paris:20161020T200000
DTEND;TZID=Europe/Paris:20161020T213000
DTSTAMP:20260420T110735
CREATED:20161020T045756Z
LAST-MODIFIED:20161020T045756Z
UID:5330-1476993600-1476999000@leoncultural.com
SUMMARY:Foro por las Humanidades; Facultad de Filosofía y letras.
DESCRIPTION:Se celebrará en el curso académico y la propuesta inicial es una conferencia de José Montero\, especialista en Cervantes\, hoy jueves a las 20 horas. \nLa Facultad de Filosofía y Letras de la Universidad de León (ULE) regresa con una nueva edición del Foro por las Humanidades que se prolongará a lo largo del curso 2016/17\, a través del cual el decanato del centro pretende “hacer visible ante la sociedad y los poderes públicos la importancia de los estudios de Letras”. Dentro del foro se celebrarán conferencias\, talleres\, debates\, y seminarios que invitarán a reflexionar y debatir sobre las humanidades digitales. \nLa primera de estas iniciativas del II Foro por las Humanidades tendrá lugar hoy  jueves (20:00 horas) con la conferencia de José F. Montero\, catedrático de Literatura Española y decano de la Facultad de Filosofía y Traducción de la Universidad de Vigo. Aunque la ponencia ‘Miguel de Cervantes: un poeta en el final de sus días’\, se enmarca dentro del Foro\, se trata de una de las dos aportaciones que efectúa la Facultad al Ciclo de Actualidad Científica y Cultural\, que se desarrolla todos los años en la Facultad de Ciencias Biológicas y Ambientales. \nJosé Montero es un especialista en Cervantes\, del que ha editado y comentado obras como ‘Novelas ejemplares’ (2015)\,  ‘La Gitanilla’ (2013) y  recientemente ‘Viaje al Parnaso. Poesías sueltas’ (2016)\, en la Biblioteca Clásica de la Real Academia Española. Es autor de otros muchos títulos\, entre los que se destacan ‘Cervantismos de ayer y de hoy. Capítulos de la historia cultural’ (2011)\, ‘Miguel de Cervantes. Una literatura para el entretenimiento’  (2007) o ‘Páginas de Historia Literaria Hispánica’ (2009)\, publicado en la Universidad de León (ULE) y prologado por Juan Matas Caballero\, profesor de Literatura Española. Además\, Montero Reguera ha enseñado en universidades extranjeras como Carleton (Ottawa\, Canadá) y Münster (Alemania). \nA la participación de Montero Reguera se une la inauguración ayer de la XXIII edición del Hall Transformado con una propuesta de la escultora Vegonha Rodríguez donde presenta ‘Me pesan las raíces’\, una intervención artística que evoca un delicado bosque donde las piedras\, las ramas\, las raíces y las telas configuran un espacio frágil que invita a pasear y disfrutar. \nEl próximo 3 de noviembre\, en el mismo ciclo de Actualidad Científica y Cultural\, el historiador José Álvarez Junco\, catedrático emérito de la Universidad Complutense de Madrid hablará sobre ‘Las ciencias sociales y los nacionalismos’. La siguiente iniciativa del Foro por las Universidades será un encuentro con el filósofo Fernando Broncano\, catedrático de la Universidad Carlos III\, autor entre otras obras\, de ‘La melancolía del ciborg’ y de ‘Entre ingenieros y ciudadanos. Filosofía de la técnica para días de democracia’.
URL:https://leoncultural.com/evento/foro-las-humanidades-facultad-filosofia-letras/
LOCATION:Facultad de Filosofía y Letras\, Campus de Vegazana s/n\, León\, León\, 24006\, España
CATEGORIES:Ponencias
ATTACH;FMTTYPE=image/jpeg:https://leoncultural.com/wp-content/uploads/2016/10/Foro-por-las-humanidades.jpg
END:VEVENT
END:VCALENDAR