BEGIN:VCALENDAR
VERSION:2.0
PRODID:-//León Cultural - ECPv5.16.4.1//NONSGML v1.0//EN
CALSCALE:GREGORIAN
METHOD:PUBLISH
X-WR-CALNAME:León Cultural
X-ORIGINAL-URL:https://leoncultural.com
X-WR-CALDESC:Eventos para León Cultural
BEGIN:VTIMEZONE
TZID:Europe/Paris
BEGIN:DAYLIGHT
TZOFFSETFROM:+0100
TZOFFSETTO:+0200
TZNAME:CEST
DTSTART:20240331T010000
END:DAYLIGHT
BEGIN:STANDARD
TZOFFSETFROM:+0200
TZOFFSETTO:+0100
TZNAME:CET
DTSTART:20241027T010000
END:STANDARD
END:VTIMEZONE
BEGIN:VEVENT
DTSTART;TZID=Europe/Paris:20241128T203000
DTEND;TZID=Europe/Paris:20241128T220000
DTSTAMP:20260424T104327
CREATED:20241126T112949Z
LAST-MODIFIED:20241126T112949Z
UID:54444-1732825800-1732831200@leoncultural.com
SUMMARY:Faneka en concierto. Teatro El Albéitar
DESCRIPTION:Faneka en concierto.\nTeatro El Albéitar\nJueves 28\, noviembre 2024\, 20:30 h
URL:https://leoncultural.com/evento/faneka-en-concierto-teatro-el-albeitar/
CATEGORIES:Conciertos,Música
ATTACH;FMTTYPE=image/jpeg:https://leoncultural.com/wp-content/uploads/2024/11/Faneka-en-concierto.-Teatro-El-Albeitar.jpg
END:VEVENT
END:VCALENDAR