BEGIN:VCALENDAR
VERSION:2.0
PRODID:-//León Cultural - ECPv5.16.4.1//NONSGML v1.0//EN
CALSCALE:GREGORIAN
METHOD:PUBLISH
X-WR-CALNAME:León Cultural
X-ORIGINAL-URL:https://leoncultural.com
X-WR-CALDESC:Eventos para León Cultural
BEGIN:VTIMEZONE
TZID:Europe/Paris
BEGIN:DAYLIGHT
TZOFFSETFROM:+0100
TZOFFSETTO:+0200
TZNAME:CEST
DTSTART:20250330T010000
END:DAYLIGHT
BEGIN:STANDARD
TZOFFSETFROM:+0200
TZOFFSETTO:+0100
TZNAME:CET
DTSTART:20251026T010000
END:STANDARD
END:VTIMEZONE
BEGIN:VEVENT
DTSTART;TZID=Europe/Paris:20250517T203000
DTEND;TZID=Europe/Paris:20250517T220000
DTSTAMP:20260423T163551
CREATED:20250515T153643Z
LAST-MODIFIED:20250515T153643Z
UID:56528-1747513800-1747519200@leoncultural.com
SUMMARY:"ESTE LÍO NO ES DE RECIBO" Dir.: Jaime Rodríguez. Athenea Teatro. El Albéitar
DESCRIPTION:«ESTE LÍO NO ES DE RECIBO»\nDir.: Jaime Rodríguez.\nAthenea Teatro.\nEl Albéitar\nSábado 17 de mayo de 2025\, 20:30 h\nENTRADAS (8€) EN LA TAQUILLA DEL TEATRO 15 MIN. ANTES DEL COMIENZO \n50% DESCUENTO COMUNIDAD UNIVERSITARIA\, PRESENTANDO CARNET UNIVERSITARIO + DNI \nLa compañía Athenea Teatro presenta Este lío no es de recibo de Jaime Rodríguez \nSinopsis: \n«¿Han tenido que hacer un sencillo trámite en alguna administración\, y después de perder toda la mañana no han podido terminarlo? \n¿Han querido hacer ese mismo trámite por internet\, y se han enfrentado a un mundo totalmente desconocido? \n¿Siente empatía por esas personas mayores\, en las que parece nadie piensa en este mundo cada vez más digitalizado? \nSi su respuesta a alguna de estas preguntas es SI\, entenderá perfectamente lo que le pasa al protagonista de esta historia. \nAntonio\, un jubilado que recoge todos los días a su nieto a la salida del colegio\, pero… se enfrentará a una jornada intensa\, sus enemigos serán la tecnología y la dichosa burocracia y sus aliados su actitud\, siempre positiva\, y su buen hacer. Estos valores le serán imprescindibles para lidiar con dos funcionarias\, el día y la noche\, que serán las encargadas de amenizar su entretenida mañana. \nEstamos seguros de que pasareis un rato estupendo disfrutando de esta situación en las que seguramente nos hemos visto reflejados.» \nREPARTO (por orden de intervención): \nMARÍA: Nuria García \nMARTA: Leire Lorenzo \nANTONIO: Francisco Alonso \nDIRECCIÓN Y PUESTA EN ESCENA: Jaime Rodríguez \nDURACIÓN APROXIMADA. 1 HORA
URL:https://leoncultural.com/evento/este-lio-no-es-de-recibo-dir-jaime-rodriguez-athenea-teatro-el-albeitar/
LOCATION:El Albéitar\, Calle Covadonga\, Calle Luis de Sosa\, esquina\, León\, León\, 24004\, España
CATEGORIES:Teatro
ATTACH;FMTTYPE=image/webp:https://leoncultural.com/wp-content/uploads/2025/05/682453ec0441f271326363.webp
END:VEVENT
END:VCALENDAR