BEGIN:VCALENDAR
VERSION:2.0
PRODID:-//León Cultural - ECPv5.16.4.1//NONSGML v1.0//EN
CALSCALE:GREGORIAN
METHOD:PUBLISH
X-WR-CALNAME:León Cultural
X-ORIGINAL-URL:https://leoncultural.com
X-WR-CALDESC:Eventos para León Cultural
BEGIN:VTIMEZONE
TZID:Europe/Paris
BEGIN:DAYLIGHT
TZOFFSETFROM:+0100
TZOFFSETTO:+0200
TZNAME:CEST
DTSTART:20260329T010000
END:DAYLIGHT
BEGIN:STANDARD
TZOFFSETFROM:+0200
TZOFFSETTO:+0100
TZNAME:CET
DTSTART:20261025T010000
END:STANDARD
END:VTIMEZONE
BEGIN:VEVENT
DTSTART;TZID=Europe/Paris:20260421T190000
DTEND;TZID=Europe/Paris:20260421T203000
DTSTAMP:20260420T034020
CREATED:20260419T092104Z
LAST-MODIFIED:20260419T092420Z
UID:59100-1776798000-1776803400@leoncultural.com
SUMMARY:Encuentro con el artista Tito Pérez Mora. MUSAC
DESCRIPTION:Encuentro con el artista Tito Pérez Mora.\nMUSAC\nMartes 21 de abril de 2026\, 19 h\nEl artista presentará en una conversación abierta con el público el martes 21 de\nabril su obra 1 y 5 puertas (la mirilla hace la puerta)\, producida específicamente\npara la muestra ¿No hay nada como el hogar? Colección MUSAC.\nComo parte de la exposición ¿No hay nada como el hogar? Colección MUSAC\, a lo\nlargo de 2026 se incorporarán a esta muestra de fondos de la Colección MUSAC\ncuatro nuevas obras producidas específicamente por el colectivo Cestola y los artistas\nTito Pérez Mora\, Sara Alonso y Lara Ruiz. El martes 21 de abril a las 19:00 horas se\npresentará en un encuentro con el público la segunda de estas intervenciones\, que\ncorre a cargo del artista Tito Pérez Mora (Benidorm\, 1971)\, cuyo trabajo explora las\ncualidades que conforman nuestro sentido más profundo del hogar. La obra 1 y 5\npuertas (la mirilla hace la puerta)\, que formará parte de la exposición hasta su\nclausura en febrero de 2027\, consta de cinco puertas realizadas con cinco materiales\ndiferentes. Cuatro de ellas ocupan la pared de la sala\, mientras que una quinta se\nsitúa en horizontal sobre el suelo\, apropiándose de un espacio atípico para estos\námbitos liminales y convirtiéndose así en un elemento desconcertante y disruptor. La\nparticipación en la actividad es gratuita hasta completar el aforo.\n¿No hay nada como el hogar? Colección MUSAC es una exposición comisariada por\nMonserrat Pis Marcos que analiza la evolución del concepto de hogar en un momento\nen el que la vivienda se ha convertido en una de las principales preocupaciones\nsociales en España. A través de una selección de 45 obras de 24 artistas procedentes\nde la Colección MUSAC\, la muestra replantea la idea de “hogar” como un concepto\ninestable y polifacético\, moldeado por condiciones sociales\, expectativas culturales\,\nexperiencias emocionales y realidades vitales. \nSobre 1 y 5 puertas (la mirilla hace la puerta)\nLas puertas son las barreras humanas por excelencia\, límites domésticos que\nseparan y protegen. Franquear sus umbrales implica efectuar transiciones de\ntrascendencia variable entre diferentes fragmentos de la realidad. Las dimensiones de\nlas puertas de Pérez Mora replican la entrada del hogar y estudio del propio artista;\ncada una sugiere una intimidad que se hace corpórea y que la intervención permite no\nsolo contemplar\, sino también oler. Sus materiales y texturas aluden a distintos\naspectos de la vida doméstica: la ceniza habla de calidez\, como la cera lo hace de\nrefugio y cuidado; el jabón remite a aromas entrañables mezclados con tareas del\nhogar\, mientras que el plomo sugiere privacidad y aislamiento; el fieltro evoca la piel y\nla ropa de abrigo. Juntas\, las puertas ofrecen múltiples vías para sentir y reflexionar\nsobre la experiencia íntima del hogar\, mientras sus mirillas recuerdan sutilmente a los\nespectadores que permanecen fuera de estos espacios privados\, sin ser invitados\, y\nque pueden ser observados sin saberlo. \nSobre Tito Pérez Mora\nTito Pérez Mora (Benidorm\, Alicante\, 1977) es artista\, arquitecto y educador.\nComenzó su carrera como arquitecto\, especializándose en el diseño de espacios\nefímeros\, escenografía y proyectos residenciales. Como artista\, su trabajo trata temas\ncomo la intimidad\, el hogar y la vida doméstica\, donde la arquitectura sigue estando\npresente desde enfoques diversos.
URL:https://leoncultural.com/evento/encuentro-con-el-artista-tito-perez-mora-musac/
LOCATION:MUSAC\, Av de los Reyes Leoneses 24\, León\, León\, 24008\, España
CATEGORIES:Presentaciones
ATTACH;FMTTYPE=image/webp:https://leoncultural.com/wp-content/uploads/2026/04/Encuentro-con-el-artista-Tito-Perez-Mora.-0DMUSAC.-©-Mercedes-Pelaez.webp
END:VEVENT
END:VCALENDAR