BEGIN:VCALENDAR
VERSION:2.0
PRODID:-//León Cultural - ECPv5.16.4.1//NONSGML v1.0//EN
CALSCALE:GREGORIAN
METHOD:PUBLISH
X-WR-CALNAME:León Cultural
X-ORIGINAL-URL:https://leoncultural.com
X-WR-CALDESC:Eventos para León Cultural
BEGIN:VTIMEZONE
TZID:Europe/Paris
BEGIN:DAYLIGHT
TZOFFSETFROM:+0100
TZOFFSETTO:+0200
TZNAME:CEST
DTSTART:20160327T010000
END:DAYLIGHT
BEGIN:STANDARD
TZOFFSETFROM:+0200
TZOFFSETTO:+0100
TZNAME:CET
DTSTART:20161030T010000
END:STANDARD
END:VTIMEZONE
BEGIN:VEVENT
DTSTART;TZID=Europe/Paris:20161107T200000
DTEND;TZID=Europe/Paris:20161107T210000
DTSTAMP:20260420T105256
CREATED:20161029T051944Z
LAST-MODIFIED:20161029T052012Z
UID:5599-1478548800-1478552400@leoncultural.com
SUMMARY:"Emociones". Exposición fotográfica. Focus\, Asociación de fotógrafos leoneses.
DESCRIPTION:El lunes día 7 de noviembre se inaugura en el Centro Cívico del Crucero León Oeste\, la exposición colectiva V Punto de encuentro\, y será a las 20:00 horas. \nTitulada «Emociones» los socios participantes han querido mostrar con una fotografía algo inmaterial\, una emoción. Alegría\, tristeza\, rabia\, euforia\, soledad……son algunas de las emociones que visualmente transmiten sus fotografías. \nLa asociación invita a todos los que se quieran acercar por allí a la inauguración de su exposición.\nLa muestra estará visible del 7 al 29 de noviembre en dicho lugar. \nHorarios\, de Lunes a Viernes\, de 11:00 a 14:00 y de 18:00 a 21:00 horas.
URL:https://leoncultural.com/evento/emociones-exposicion-fotografica-focus-asociacion-fotografos-leoneses/
LOCATION:Centro Cívico El Crucero\, Avenida de la Magdalena 1\, León\, León\, 24009\, España
CATEGORIES:Exposiciones,Fotografía
ATTACH;FMTTYPE=image/jpeg:https://leoncultural.com/wp-content/uploads/2016/10/emociones-focus.jpg
END:VEVENT
END:VCALENDAR