BEGIN:VCALENDAR
VERSION:2.0
PRODID:-//León Cultural - ECPv5.16.4.1//NONSGML v1.0//EN
CALSCALE:GREGORIAN
METHOD:PUBLISH
X-WR-CALNAME:León Cultural
X-ORIGINAL-URL:https://leoncultural.com
X-WR-CALDESC:Eventos para León Cultural
BEGIN:VTIMEZONE
TZID:Europe/Paris
BEGIN:DAYLIGHT
TZOFFSETFROM:+0100
TZOFFSETTO:+0200
TZNAME:CEST
DTSTART:20250330T010000
END:DAYLIGHT
BEGIN:STANDARD
TZOFFSETFROM:+0200
TZOFFSETTO:+0100
TZNAME:CET
DTSTART:20251026T010000
END:STANDARD
END:VTIMEZONE
BEGIN:VEVENT
DTSTART;TZID=Europe/Paris:20251003T193000
DTEND;TZID=Europe/Paris:20251003T210000
DTSTAMP:20260422T151931
CREATED:20251001T061305Z
LAST-MODIFIED:20251001T061305Z
UID:57586-1759519800-1759525200@leoncultural.com
SUMMARY:“El viaje de mi padre” Julio Llamazares. Presentación en Factor. Espacio San Feliz
DESCRIPTION:“El viaje de mi padre” Julio Llamazares.\nPresentación en Factor. Espacio San Feliz\nViernes 3\, octubre 2025\, 19:30 h\nEste viernes 3 de octubre\, a las 19.30h\, en Espacio FACTOR (San Feliz de Torío)\, tendrá lugar la presentación del libro “El viaje de mi padre” del que es autor Julio Llamazares. \nEl autor estará acompañado por Pilar Reyes (Directora de literatura de Penguin Random House) y Carolina Reoyo (Editora senior de Alfaguara).\nEntrada libre hasta completar aforo \nJulio Llamazares (Vegamián\, León\, 1955). Su obra abarca prácticamente todos los registros literarios\, desde la poesía –La lentitud de los bueyes (1979) y Memoria de la nieve (1982)- o las recopilaciones de artículos –En Babia (1991)\, Nadie escucha (1995) y Entre perro y lobo (2008)- hasta la literatura de viajes –El río del olvido (1990 y 2006)\, Trás-os-Montes (1998)\, Cuaderno del Duero (1999)\, Las rosas de piedra (2008)\, Atlas de la España imaginaria (2015)\, El viaje de don Quijote (2016) y Las rosas del sur (2018)-\, pasando por la crónica –El entierro de Genarín (1981 y 2015)-\, el relato corto –En mitad de ninguna parte (1995 y 2014) y Tanta pasión para nada (2011)-\, el dietario –Primavera extremeña (2020)-\, el guion cinematográfico y la novela –Luna de lobos (1985)\, La lluvia amarilla (1988)\, Escenas de cine mudo (1994 y 2006)\, El cielo de Madrid (2005)\, Las lágrimas de San Lorenzo (2013)\, Distintas formas de mirar el agua (2015) y Vagalume (2023)-. \nComo sucede siempre\, cuando mi padre me contaba esas historias yo no le hacía mucho caso y ahora me arrepiento de ello. Mi padre murió pronto y sus recuerdos quedaron en ese limbo de la memoria en el que se desvanecen las vidas de los que nos precedieron y a los que no escuchamos cuando estaban vivos. Luego nos arrepentimos de ello y\, como yo ahora\, tratamos de reconstruir sus pequeñas historias con los retazos de lo que se quedó en el aire y aún alcanzamos a recordar. \nEn honor de su padre y de sus compañeros\, pero también por recorrer un territorio\, el que atraviesa la espina dorsal de la península ibérica\, que sintetiza como muy pocos su esencia\, el autor ha repetido su viaje y lo ha hecho en los mismos meses del año en los que lo hicieron ellos para intentar sentir lo que ellos sintieron siquiera sea referido al clima. Por el camino se encontró con personajes que mantienen vivo el recuerdo de aquel invierno terrible\, el peor del siglo XX\, y de una primavera y un verano calurosos junto al mar\, y con algunas de las historias que su padre le contó y que los paisajes conservan aun flotando como una pátina sobre ellos\, «pues la historia permanece en los lugares en los que sucedió como las palabras sobre la memoria».
URL:https://leoncultural.com/evento/el-viaje-de-mi-padre-julio-llamazares-presentacion-en-factor-espacio-san-feliz/
LOCATION:Factor. Espacio San Feliz\, San Feliz de Torío\, León\, 24890\, España
CATEGORIES:Presentaciones
ATTACH;FMTTYPE=image/webp:https://leoncultural.com/wp-content/uploads/2025/10/El-viaje-de-mi-padre-Julio-Llamazares.-Factor.-Espacio-San-Feliz.webp
END:VEVENT
END:VCALENDAR