BEGIN:VCALENDAR
VERSION:2.0
PRODID:-//León Cultural - ECPv5.16.4.1//NONSGML v1.0//EN
CALSCALE:GREGORIAN
METHOD:PUBLISH
X-WR-CALNAME:León Cultural
X-ORIGINAL-URL:https://leoncultural.com
X-WR-CALDESC:Eventos para León Cultural
BEGIN:VTIMEZONE
TZID:Europe/Paris
BEGIN:DAYLIGHT
TZOFFSETFROM:+0100
TZOFFSETTO:+0200
TZNAME:CEST
DTSTART:20240331T010000
END:DAYLIGHT
BEGIN:STANDARD
TZOFFSETFROM:+0200
TZOFFSETTO:+0100
TZNAME:CET
DTSTART:20241027T010000
END:STANDARD
END:VTIMEZONE
BEGIN:VEVENT
DTSTART;TZID=Europe/Paris:20241109T190000
DTEND;TZID=Europe/Paris:20241109T203000
DTSTAMP:20260422T164353
CREATED:20241106T162027Z
LAST-MODIFIED:20241106T162027Z
UID:54246-1731178800-1731184200@leoncultural.com
SUMMARY:El Montacargas "Perra vida Dulces Sueños". Casa de Cultura. Villamañán.
DESCRIPTION:El Montacargas «Perra vida Dulces Sueños».\nCasa de Cultura. Villamañán.\nSábado 9\, noviembre 2024\, 19 h\nPúblico Adulto.\nEntrada Gratuita.\nDuración: 60 minutos.\nProcedencia: Madrid. \nSINOPSIS \n«Perra vida\, dulces sueños» es una comedia de humor negro de dos antihéroes urbanos:EL\, encerrado en la cárcel de su trabajo y ELLA\, en la sus ilusiones\, dos destinos\, la astrología\, una cena de empresa\, la crisis\, unos sueños delirantes\, una acción trepidante\, Roberto carlos\, el cantante brasileño\, Barbara Streisand\, un estrangulamiento abortado\, una seducción por codicia\, dos encarcelados\, dos liberaciones\, un futuro\, una esperanza\, una ilusión… ¿que es la vida? Esta obra tuvo una ayuda a Producción de la Comunidad de Madrid\, representada en diversos Centros Culturales y estuvo tres meses en la sala Montacargas\, donde todas las valoraciones del público en atrapalo.com fueron de 10. Ayuda del Mo para Gira Nacional EN DOS COCASIONES(funciones en 7 comunidades fuera de Madrid: Canarias\, Andalucía\, Castilla La Mancha\, C León\, Aragón\, La Rioja y País Vasco) y para Gira Internacional (funciones en Argentina\, Premio al Mejor Actor en el VIII Festival Iberoamericano de Teatro de Mar Del Plata\, entre 32 cías. De 10 países) \nFICHA ARTISTICA Y TECNICA\nInterpretación: Aurora Navarro\, Manuel Fernández Nieves\nAutor\, Dirección y Espacio escénico: Miguel Morillo\nVestuario: Essy Gnomo\nPromoción\, Comunicación y Prensa: Manon Genet\nCartel: Miguel Brayda\nFotos: Carlos Bandres\, Manon Genet\nVídeo: David Santos Lobo\nMúsica: Manu Gallego\, Juan Luis Sancho (H.Plus)\nJefe de producción: Andrés Hernández\nLuminotecnia: Javier Botella\nColaboraciones: Jota Fernández\, Pan Alvaro\, Oscar Sainz\, Sonia Zubiaga\n(Sayko estilistas)\, Javier Miguel Padín\, Paula Postigo Peréz.\nProducción: El Montacargas\, Aurora Navarro.
URL:https://leoncultural.com/evento/el-montacargas-perra-vida-dulces-suenos-casa-de-cultura-villamanan/
LOCATION:Villamañán\, Villamañán\, León\, España
CATEGORIES:Teatro
ATTACH;FMTTYPE=image/jpeg:https://leoncultural.com/wp-content/uploads/2024/11/El-Montacargas-Perra-vida-Dulces-Suenos.-Casa-de-Cultura.-Villamanan.jpg
END:VEVENT
END:VCALENDAR