BEGIN:VCALENDAR
VERSION:2.0
PRODID:-//León Cultural - ECPv5.16.4.1//NONSGML v1.0//EN
CALSCALE:GREGORIAN
METHOD:PUBLISH
X-WR-CALNAME:León Cultural
X-ORIGINAL-URL:https://leoncultural.com
X-WR-CALDESC:Eventos para León Cultural
BEGIN:VTIMEZONE
TZID:Europe/Paris
BEGIN:DAYLIGHT
TZOFFSETFROM:+0100
TZOFFSETTO:+0200
TZNAME:CEST
DTSTART:20220327T010000
END:DAYLIGHT
BEGIN:STANDARD
TZOFFSETFROM:+0200
TZOFFSETTO:+0100
TZNAME:CET
DTSTART:20221030T010000
END:STANDARD
END:VTIMEZONE
BEGIN:VEVENT
DTSTART;TZID=Europe/Paris:20220329T200000
DTEND;TZID=Europe/Paris:20220329T213000
DTSTAMP:20260420T110808
CREATED:20220327T190214Z
LAST-MODIFIED:20220327T190214Z
UID:41013-1648584000-1648589400@leoncultural.com
SUMMARY:El foragido. Ciclo de cine clásico. Teatro San Francisco.
DESCRIPTION:El foragido.\nCiclo de cine clásico.\nTeatro San Francisco.\n29 de marzo de 2022\, 20 h\n\nEntrada: 4€\nEntradas\n« Todos los Eventos \n\n\n\nTítulo original: The Outlaw \nAño: 1943 \nDuración: 116 min \nPaís: Estados Unidos \nDirección: Howard Hughes\, Howard Hawks \nGuion: Jules Furthman \nMúsica: Victor Young \nFotografía: Gregg Toland (B&W) \nReparto: Jane Russell\, Jack Buetel\, Thomas Mitchell\, Walter Huston\, Joe Sawyer\, Mimi Aguglia\, Gene Rizzi\, Ben Johnson \nSinopsis: \nBilly el Niño y Doc Holliday huyen del sheriff Pat Garret\, que antes había sido su amigo. Los forajidos llevan consigo a la mestiza Río\, que es la chica de Bill. Las peleas entre los dos amigos son constantes: cuando no es por los caballos es por Río. \nRESEÑA DE LA PELÍCULA – EL RAPAZ \n“EL AVIADOR” \nPelícula dirigida en 1943\, en principio por Howard Hawks\, pero a los diez días de rodaje la abandonó. Entonces Howard Hughes\, sustituye al director de fotografía y a otros técnicos\, y se hace cargo él mismo de la dirección de la película. \nEste sería el segundo y último largometraje que dirigiría tras “Ángeles del infierno” en 1930. Howard Hughes fue todo un personaje en su época; millonario excéntrico\, empresario\, productor de cine (“Scarface” de Hawks\,1932\, ya proyectada en este teatro)\, ingeniero y aviador. Pueden recordarle revisitando el extraordinario biopic que de él hizo Martin Scorsese en su película “El aviador”\, protagonizada por Leonardo di Caprio. \nEl guion corre a cargo de Jules Furthman\, autor de grandes guiones como “El expreso de Shanghái”\, “Tener y no tener” o “Rio bravo”. También cuenta con la fotografía de uno de los más grandes de la historia del cine como es Gregg Tolland\, que tiene en su haber obras maestras como\, “Ciudadano Kane”\, “La loba”\, “Las uvas de la ira” o “cumbres borrascosas”. Y todo ello remarcado\, a veces demasiado repetitivamente\, por el adagio de la sexta sinfonía de Tchaikovsky\, en su banda sonora. \nEl western desarrolla una historia inspirada en referencias históricas y legendarias de Billy el niño\, Pat Garret y Doc Holliday. Cuenta una historia de amistad entre los tres protagonistas (y un caballo)\, salpicada de humor en los diálogos al que se añaden unos “toques” de alguna orientación sexual ambigua\, pero tratada con mucha clase. \nEn el reparto nos encontramos con una joven promesa Jack Buetel\, que se quedó en eso\, haciendo de Billy el niño\, secundado por dos “secundarios” de lujo\, como eran Thomas Mitchel\, en el papel de Doc Holliday y Walter Huston en el de Pat Garret. A ellos se le une la sensual Rosalind Russell (“Los caballeros las prefieren rubias”) y su provocativo escote (para el cual se diseñó un corsé especial)\, razón por la que el film fue censurado repetidas veces\, y pasó a estrenarse de 1941 a 1943. En España\, por cierto\, no se estrenó\, motivo de más para que no pierdan la oportunidad de verla en la gran pantalla. \nAunque se nota en algunos planos la firma de Hawks\, la película es claramente heredera del cine mudo\, por su estética teatral y los fundidos en negro\, más habituales en las películas de los años 20 que en las de los años 40. \nComo curiosidad\, decir que era una de las películas preferidas de Sergio Leone\, y se inspiró en ella para la escena de los duelos en “La muerte tenía un precio”\, con el reloj de cuco. \nLes invitamos a disfrutar de esta “atípica” película\, dirigida no por un artista\, sino por un millonario y que sin embargo crea una obra llena de comedia\, amor y enemistad\, en una mezcla que tiene mucho de western\, por supuesto\, pero también de cine negro\, tanto por su contenido como por su tratamiento\, en el que se puede apreciar un interesante trabajo de contrastes\, luces y sombras\, y algún eventual claroscuro. Muy recomendable. \nRAPAZ
URL:https://leoncultural.com/evento/el-foragido-ciclo-de-cine-clasico-teatro-san-francisco/
LOCATION:Teatro San Francisco\, Calle Corredera\, 1  \,  León\, León\, 24003\, España
CATEGORIES:Cine
ATTACH;FMTTYPE=image/jpeg:https://leoncultural.com/wp-content/uploads/2022/03/El-foragido-teatro-san-francisco.jpg
END:VEVENT
END:VCALENDAR