BEGIN:VCALENDAR
VERSION:2.0
PRODID:-//León Cultural - ECPv5.16.4.1//NONSGML v1.0//EN
CALSCALE:GREGORIAN
METHOD:PUBLISH
X-WR-CALNAME:León Cultural
X-ORIGINAL-URL:https://leoncultural.com
X-WR-CALDESC:Eventos para León Cultural
BEGIN:VTIMEZONE
TZID:Europe/Paris
BEGIN:DAYLIGHT
TZOFFSETFROM:+0100
TZOFFSETTO:+0200
TZNAME:CEST
DTSTART:20240331T010000
END:DAYLIGHT
BEGIN:STANDARD
TZOFFSETFROM:+0200
TZOFFSETTO:+0100
TZNAME:CET
DTSTART:20241027T010000
END:STANDARD
END:VTIMEZONE
BEGIN:VEVENT
DTSTART;TZID=Europe/Paris:20241129T190000
DTEND;TZID=Europe/Paris:20241129T203000
DTSTAMP:20260424T121314
CREATED:20241127T152932Z
LAST-MODIFIED:20241127T153013Z
UID:54475-1732906800-1732912200@leoncultural.com
SUMMARY:El cuento español de Navidad. Un tesoro por descubrir. Francisco José Gómez Fernández. Renta4banco
DESCRIPTION:El cuento español de Navidad. Un tesoro por descubrir.\nFrancisco José Gómez Fernández.\nRenta4banco\nViernes 29\, noviembre 2024\, 19 h\nHéroes de Cavite organiza un magnífico evento\, EL CUENTO ESPAÑOL DE NAVIDAD\, Un Tesoro por Redescubrir\, impartido por D. Francisco José Gómez Fernández. Según palabras del ponente: «La llegada de la Navidad lleva aparejada un buen número de costumbres\,tradiciones\, relatos e incluso películas que se repiten año tras año. Pero si hay algo que\,a pesar de su escaso conocimiento por parte del público\, refleja las historias y costumbres que nos contaron nuestros padres y abuelos\, o que vivimos en nuestra propia infancia\, son los cuentos españoles de Navidad. Con el auge del relato breve a inicios del XIX\, autores tan notables como Bécquer\, Pardo Bazán\, Echegaray\, Valle-Inclán o Azorín \,además de muchos otros\, escribieron pequeñas historias navideñas en las que plasmaron recuerdos familiares\, vivencias personales\, la dureza de la vida o las injusticias de los hombres. Pero también episodios que reflejan hermosas costumbres populares y la fe alegre\,sencilla y profunda del pueblo en fechas tan señaladas\, aderezadas con el sabor peculiar de la tradición española. En esta conferencia se procura exponer el origen del relato navideño en España\, de sus autores\, así como de la evolución de los temas que se tratan y de los escritores que en la actualidad están resucitando el género. Siempre con la intención de animar a su lectura y combatir el olvido al que se ha sometido a buena parte de nuestra mejor literatura en general y de redescubrir este tesoro olvidado que es la literatura española de Navidad»\nEl currículum de Don Francisco José Gómez Fernandez es muy amplio\, puedo pasarlo entero\, pero a efectos de la noticia\, esperando que sea de su interés y como resúmen en la actualidad es profesor de Religiones del Mundo Antiguo en el Instituto Bíblico y Oriental de León\, además\, concilia su labor investigadora con la docencia en secundaria y bachillerato. Tiene publicados varios libros\, así como más de 60 artículos en revistas del tema histórico. En el año 2000 una de estas investigaciones le supuso ganar el primer premio de un concurso organizado por la revista Historia y Vida con el trabajo titulado «Ilusiones\, decepciones y reacciones sociales a la llegada de Felipe V a España». Don Francisco José Gómez\, es licenciado en Historia Antigua por la Universidad de Valladolid.
URL:https://leoncultural.com/evento/el-cuento-espanol-de-navidad-un-tesoro-por-descubrir-francisco-jose-gomez-fernandez-renta4banco/
LOCATION:Renta 4 Banco\, Av ordoño II 35\, León\, León\, 24002\, España
CATEGORIES:Presentaciones
ATTACH;FMTTYPE=image/jpeg:https://leoncultural.com/wp-content/uploads/2024/11/El-cuento-espanol-de-Navidad.-Un-tesoro-por-descubrir.-Francisco-Jose-Gomez-Fernandez.-Renta4banco.jpg
END:VEVENT
END:VCALENDAR