BEGIN:VCALENDAR
VERSION:2.0
PRODID:-//León Cultural - ECPv5.16.4.1//NONSGML v1.0//EN
CALSCALE:GREGORIAN
METHOD:PUBLISH
X-WR-CALNAME:León Cultural
X-ORIGINAL-URL:https://leoncultural.com
X-WR-CALDESC:Eventos para León Cultural
BEGIN:VTIMEZONE
TZID:Europe/Paris
BEGIN:DAYLIGHT
TZOFFSETFROM:+0100
TZOFFSETTO:+0200
TZNAME:CEST
DTSTART:20250330T010000
END:DAYLIGHT
BEGIN:STANDARD
TZOFFSETFROM:+0200
TZOFFSETTO:+0100
TZNAME:CET
DTSTART:20251026T010000
END:STANDARD
END:VTIMEZONE
BEGIN:VEVENT
DTSTART;TZID=Europe/Paris:20250801T120000
DTEND;TZID=Europe/Paris:20251031T170000
DTSTAMP:20260422T135542
CREATED:20250729T121505Z
LAST-MODIFIED:20250802T102808Z
UID:57182-1754049600-1761930000@leoncultural.com
SUMMARY:De la naturaleza y otras miradas. Araceli González. Fundación Merayo
DESCRIPTION:De la naturaleza y otras miradas.\nAraceli González.\nFundación Merayo\nDel 1 de agosto al 31 de octubre de 2025\nAraceli González Sánchez es una artista leonesa vinculada creativamente a la \nmúsica y a la pintura. En cuanto a la música\, se forma en el Conservatorio Supe- \nrior de Música de Madrid en las áreas de piano\, solfeo y pedagogía musical. Pro- \nfesionalmente ha ejercido como profesora de enseñanzas artísticas en diferentes \ncentros y conservatorios del país\, y actualmente es inspectora de educación. Ha \ncomplementado su trabajo como asesora técnica educativa de la Consejería de \nEducación de la Junta de Castilla y León y ha ejercido como miembro del conse- \njo de administración de la orquesta OSCYL de Castilla y León. En lo que respec- \nta a la pintura\, a la que siempre ha estado ligada y por la que siente gran pasión\, \nha recibido clases de diferentes profesores a lo largo de su vida\, como Xosé \nEladio González y David de la Riva. Desde hace unos años ha iniciando una \nandadura profesional que se materializa en exposiciones colectivas: en la Galeríe \nImage in´Air de París\, en la Galería Patricia Cancelo de Barcelona; ahora inaugu- \nra una muestra personal en La Comunal\, de Val de San Lorenzo y próximamente \nen la Fundación Merayo en Santibáñez de Porma. \nEn las obras que conforman esta muestra están presentes el espíritu de la natu- \nraleza y el influjo de la música que surge espontáneamente de la sensibilidad y \nla cultura de la artista. \nDe su pintura\, Araceli dice que “transita por el universo de la abstracción lírica o \ngestual. Utiliza a menudo pinceladas fluidas\, manchas de color\, gestos espontá- \nneos a veces repetidos en cadencias de tensión sosegada que inevitablemente \naluden a la gran inspiración de la autora: la naturaleza y la música”. Son obras \nestética y formalmente deudoras\, en cierta medida\, del amplio y lejano espectro \ndel informalismo y sus derivaciones\, pues junto a la mencionada abstracción \namable se observan soluciones tachistas y sígnicas. Las manchas yuxtapuestas \ny estáticas\, de colores elocuentes\, nos llevan a los ecos de la sensibilidad y la \niluminación de lo inconsciente. Mientras\, atrapan la mirada del espectador y la \nhacen desplazarse por el espacio plástico en pos de señales\, grafismos vertica- \nles que se imponen como un elemento constante y rítmico e imprimen dinamis- \nmo y musicalidad a la superficie pictórica. \nLa pintora sintetiza el sentido de estas composiciones con estas palabras: “La \nmezcla de colores\, las referencias simbólicas y los compases soterrados devie- \nnen en elementos plásticos con referencia a una estructura melódica que se abre \npaso a un desarrollo variado de hallazgos de intensa creatividad”. \nEs elocuente el interés de Araceli por la naturaleza\, cuya presencia subyace \ncomo fuente de inspiración en estas abstracciones\, que\, paradójicamente\, llevan \nimplícitas sugerencias de paisaje. \nRosa María Olmos Criado. Arte y Exposiciones. Fundación Merayo
URL:https://leoncultural.com/evento/de-la-naturaleza-y-otras-miradas-araceli-gonzalez-fundacion-merayo/
LOCATION:FUNDACIÓN MERAYO\, Camino el Molino\, 29\,  Santibáñez de Porma\, León\, 24156\, España
CATEGORIES:Exposiciones,Pintura
ATTACH;FMTTYPE=image/webp:https://leoncultural.com/wp-content/uploads/2025/07/De-la-naturaleza-y-otras-miradas.0AAraceli-Gonzalez0AFundacion-Merayo-.webp
END:VEVENT
END:VCALENDAR