BEGIN:VCALENDAR
VERSION:2.0
PRODID:-//León Cultural - ECPv5.16.4.1//NONSGML v1.0//EN
CALSCALE:GREGORIAN
METHOD:PUBLISH
X-WR-CALNAME:León Cultural
X-ORIGINAL-URL:https://leoncultural.com
X-WR-CALDESC:Eventos para León Cultural
BEGIN:VTIMEZONE
TZID:Europe/Paris
BEGIN:DAYLIGHT
TZOFFSETFROM:+0100
TZOFFSETTO:+0200
TZNAME:CEST
DTSTART:20160327T010000
END:DAYLIGHT
BEGIN:STANDARD
TZOFFSETFROM:+0200
TZOFFSETTO:+0100
TZNAME:CET
DTSTART:20161030T010000
END:STANDARD
END:VTIMEZONE
BEGIN:VEVENT
DTSTART;TZID=Europe/Paris:20161218T180000
DTEND;TZID=Europe/Paris:20161218T210000
DTSTAMP:20260422T151345
CREATED:20161214T124230Z
LAST-MODIFIED:20161218T053241Z
UID:6647-1482084000-1482094800@leoncultural.com
SUMMARY:Concierto de navidad de la Orquesta Odón Alonso en el Auditorio.
DESCRIPTION:Concierto de Navidad – Valses y Polkas de la Familia Strauss\, Música Clásica\nDirector: Dorel Murgu\nCONCIERTO DE NAVIDAD \n‘ORQUESTA CIUDAD DE LEÓN ODÓN ALONSO’\nAuditorio Ciudad de León\nFECHA: 18 de diciembre de 2016\nHORA:\n1ª sesión: 18:00h\n2ª sesión: 21:00h\nPRECIOS: \n– 20\,00 euros por localidad de Platea\, Anfiteatro y Palcos\n– 10\,00 euros por localidad de Tribuna Posterior. \nLa venta de localidades en esta zona únicamente se habilitará \nsi se agotan las localidades de la zona principal y previa autorización de la orquesta. \nDESCUENTOS\n 50%  de descuento para menores de edad en la sesión de las 18:00h
URL:https://leoncultural.com/evento/concierto-navidad-la-orquesta-odon-alonso-auditorio/
LOCATION:Auditorio Ciudad de León\, Av. de los Reyes Leoneses\, 4\, 24008 León\, León\, León\, 24008\, España
CATEGORIES:Conciertos,Música
ATTACH;FMTTYPE=image/jpeg:https://leoncultural.com/wp-content/uploads/2016/12/navidad-ODON-ALONSO.jpg
END:VEVENT
END:VCALENDAR