BEGIN:VCALENDAR
VERSION:2.0
PRODID:-//León Cultural - ECPv5.16.4.1//NONSGML v1.0//EN
CALSCALE:GREGORIAN
METHOD:PUBLISH
X-WR-CALNAME:León Cultural
X-ORIGINAL-URL:https://leoncultural.com
X-WR-CALDESC:Eventos para León Cultural
BEGIN:VTIMEZONE
TZID:Europe/Paris
BEGIN:DAYLIGHT
TZOFFSETFROM:+0100
TZOFFSETTO:+0200
TZNAME:CEST
DTSTART:20190331T010000
END:DAYLIGHT
BEGIN:STANDARD
TZOFFSETFROM:+0200
TZOFFSETTO:+0100
TZNAME:CET
DTSTART:20191027T010000
END:STANDARD
END:VTIMEZONE
BEGIN:VEVENT
DTSTART;TZID=Europe/Paris:20190126T213000
DTEND;TZID=Europe/Paris:20190126T230000
DTSTAMP:20260424T115339
CREATED:20190126T060302Z
LAST-MODIFIED:20190126T060302Z
UID:25477-1548538200-1548543600@leoncultural.com
SUMMARY:Concierto Iberia Sumergida\, tributo a Héroes del Silencio. Espacio Vías. León
DESCRIPTION:Concierto Iberia Sumergida\, tributo a Héroes del Silencio. Espacio Vías. León\n26 de enero a las 21:30 horas \nLa mejor banda tributo a Héroes del Silencio\, llega a Espacio Vías el 26 de enero.\nConcierto de Iberia Sumergida\, tributo a Héroes del Silencio\, en Espacio Vías Leónjoven.\nEntradas: 16 € + gastos (eventbrite y El Gran Café). Prohibida la entrada a menores de 18 años. \nLeón Joven / Iberia Sumergida está considerado como el mejor espectáculo homenaje a Héroes del Silencio\, galardonado con el premio COVER DE ORO\, organizado a nivel mundial por el club de fans oficial de Héroes donde un jurado especializado elige el mejor cover de la banda aragonesa. \nIberia Sumergida ha sido avalada por Pedro Andreu (batería de Héroes del Silencio)\, Alan Boguslavky (Guitarrista rítmico\, considerado “El quinto Héroe”) y Copi Corellano (teclados El Espíritu del Vino en HDS y Búnbury – El Huracán Ambulante)\, colaborando en directo todos ellos con Iberia Sumergida en diversas ocasiones. \nArtistas\, prensa y público confirman la altísima calidad de su homenaje a la desaparecida banda de Bunbury y compañía\, habiendo ya cruzado el charco en varias ocaciones con actuaciones en Honduras ante más de 10.000 personas. \n 
URL:https://leoncultural.com/evento/concierto-iberia-sumergida-tributo-a-heroes-del-silencio-espacio-vias-leon/
LOCATION:Espacio VIAS\, Av del Padre Isla\, 48\, León\, León\, 24008 \, España
CATEGORIES:Conciertos,Música
ATTACH;FMTTYPE=image/jpeg:https://leoncultural.com/wp-content/uploads/2019/01/iberia-sumergida-espacio-vias.jpg
END:VEVENT
END:VCALENDAR