BEGIN:VCALENDAR
VERSION:2.0
PRODID:-//León Cultural - ECPv5.16.4.1//NONSGML v1.0//EN
CALSCALE:GREGORIAN
METHOD:PUBLISH
X-WR-CALNAME:León Cultural
X-ORIGINAL-URL:https://leoncultural.com
X-WR-CALDESC:Eventos para León Cultural
BEGIN:VTIMEZONE
TZID:Europe/Paris
BEGIN:DAYLIGHT
TZOFFSETFROM:+0100
TZOFFSETTO:+0200
TZNAME:CEST
DTSTART:20260329T010000
END:DAYLIGHT
BEGIN:STANDARD
TZOFFSETFROM:+0200
TZOFFSETTO:+0100
TZNAME:CET
DTSTART:20261025T010000
END:STANDARD
END:VTIMEZONE
BEGIN:VEVENT
DTSTART;TZID=Europe/Paris:20260429T173000
DTEND;TZID=Europe/Paris:20260429T190000
DTSTAMP:20260419T181114
CREATED:20260419T090937Z
LAST-MODIFIED:20260419T090937Z
UID:59095-1777483800-1777489200@leoncultural.com
SUMMARY:Concierto de Piano de Martín Arias. Auditorio Ángel Barja Conservatorio de León
DESCRIPTION:Concierto de Piano de Martín Arias.\nAuditorio Ángel Barja Conservatorio de León\n29 de abril de 2026\, 17:30 h\n– Allegro de concierto\, de Granados\n– Estudio op 10 no 9\, de Chopin\n– «Un sospiro» estudio de concierto S.144\, de Liszt\n– Nocturno op 48 no 1\, de Chopin\n– Polonesa «Heroica» op 53\, de Chopin\n\nEste programa representa la «época dorada del piano»\, ya que combina el virtuosismo de Liszt\, el intimismo (no menos virtuoso) de Chopin\, y el toque español de Granados\, ciertamente único.\nMartín Arias nació en 2008 y empezó sus estudios de piano a los 10 años en la academia +QMúsica\, y a los 13 entró al Conservatorio Profesional de León en la especialidad de piano\, y 2 años más tarde en la especialidad de órgano.\nHa recibido clases magistrales de destacados pianistas como Laura Sierra Ramos y actualmente compagina sus estudios de piano y órgano en el conservatorio con los de bachillerato\, además de asistir regularmente a clases en el Centro de Alto Rendimiento Musical de la Universidad Alfonso X el Sabio bajo la tutela del reconocido pianista y compositor Giuseppe Devastato. Anteriormente ha dado varios conciertos\, tanto de piano\, en +QMúsica\, como de órgano en la Iglesia de Santa María de Mahón. Por otro lado\, además de intérprete\, también es compositor\, pues ha compuesto varias obras para piano solo.
URL:https://leoncultural.com/evento/concierto-de-piano-de-martin-arias-auditorio-angel-barja-conservatorio-de-leon/
LOCATION:Auditorio Angel Barja\, León\, León\, España
CATEGORIES:Conciertos,Música
ATTACH;FMTTYPE=image/webp:https://leoncultural.com/wp-content/uploads/2026/04/Concierto-de-Piano-de-Martin-Arias.-0AAuditorio-Angel-Barja-Conservatorio-de-Leon.webp
END:VEVENT
END:VCALENDAR