BEGIN:VCALENDAR
VERSION:2.0
PRODID:-//León Cultural - ECPv5.16.4.1//NONSGML v1.0//EN
CALSCALE:GREGORIAN
METHOD:PUBLISH
X-WR-CALNAME:León Cultural
X-ORIGINAL-URL:https://leoncultural.com
X-WR-CALDESC:Eventos para León Cultural
BEGIN:VTIMEZONE
TZID:Europe/Paris
BEGIN:DAYLIGHT
TZOFFSETFROM:+0100
TZOFFSETTO:+0200
TZNAME:CEST
DTSTART:20240331T010000
END:DAYLIGHT
BEGIN:STANDARD
TZOFFSETFROM:+0200
TZOFFSETTO:+0100
TZNAME:CET
DTSTART:20241027T010000
END:STANDARD
END:VTIMEZONE
BEGIN:VEVENT
DTSTART;TZID=Europe/Paris:20241215T123000
DTEND;TZID=Europe/Paris:20241215T203000
DTSTAMP:20260424T103204
CREATED:20241211T080543Z
LAST-MODIFIED:20241211T080543Z
UID:54603-1734265800-1734294600@leoncultural.com
SUMMARY:CONCIERTO DE NAVIDAD JJMM-ULE. Auditorio ciudad de León
DESCRIPTION:CONCIERTO DE NAVIDAD JJMM-ULE.\nAuditorio ciudad de León\nDomingo 15\,  diciembre 2024\, 12:30 y 19 h\nRECOGIDA DE INVITACIONES EN LA TAQUILLA DEL AUDITORIO CIUDAD DE LEÓN A PARTIR DEL 10 DE DICIEMBRE EN HORARIO DE 9-14H DE LUNES A VIERNES; EN CASO DE NO AGOTARSE\, EL MISMO DÍA 15 DE DICIEMBRE DOS HORAS ANTES DEL CONCIERTO. MÁXIMO 2 LOCALIDADES POR PERSONA. \nCONCIERTO DE NAVIDAD JJMM-ULE DOMINGO 15 DICIEMBRE:\n \n*12:30 h: Concierto Coro Juvenil y Coro Ángel Barja + Coros infantiles y Banda Infantil. \n*19:00 h: Concierto Orquesta y Banda de Música.
URL:https://leoncultural.com/evento/concierto-de-navidad-jjmm-ule-auditorio-ciudad-de-leon-2/
LOCATION:Auditorio Ciudad de León\, Av. de los Reyes Leoneses\, 4\, 24008 León\, León\, León\, 24008\, España
CATEGORIES:Conciertos,Música
ATTACH;FMTTYPE=image/jpeg:https://leoncultural.com/wp-content/uploads/2024/12/CONCIERTO-DE-NAVIDAD-JJMM-ULE.-Auditorio-ciudad-de-Leon.jpg
END:VEVENT
END:VCALENDAR