BEGIN:VCALENDAR
VERSION:2.0
PRODID:-//León Cultural - ECPv5.16.4.1//NONSGML v1.0//EN
CALSCALE:GREGORIAN
METHOD:PUBLISH
X-WR-CALNAME:León Cultural
X-ORIGINAL-URL:https://leoncultural.com
X-WR-CALDESC:Eventos para León Cultural
BEGIN:VTIMEZONE
TZID:Europe/Paris
BEGIN:DAYLIGHT
TZOFFSETFROM:+0100
TZOFFSETTO:+0200
TZNAME:CEST
DTSTART:20180325T010000
END:DAYLIGHT
BEGIN:STANDARD
TZOFFSETFROM:+0200
TZOFFSETTO:+0100
TZNAME:CET
DTSTART:20181028T010000
END:STANDARD
END:VTIMEZONE
BEGIN:VEVENT
DTSTART;TZID=Europe/Paris:20180425T201500
DTEND;TZID=Europe/Paris:20180425T213000
DTSTAMP:20260420T110800
CREATED:20180425T054039Z
LAST-MODIFIED:20180425T054056Z
UID:18470-1524687300-1524691800@leoncultural.com
SUMMARY:Concierto de acordeón de Lore Amenábar.  Teatro el Albéitar
DESCRIPTION:Concierto de acordeón de Lore Amenábar. Teatro el Albéitar\n25 de abril a las 20:15 horas \nLORE AMENABAR\nNace en Irura en 1995. A la edad de 8 años inicia sus estudios de acordeón y en 2009 pasa a ser alumna de Salvador Parada en el Conservatorio Francisco Escudero de San Sebastián. En 2013 comienza el Grado Superior con Matti Rantanen en Helsinki.\nEstos son algunos de los premios que ha conseguido tanto a nivel individual como en música de cámara: Primer premio en el “Concurso de Acordeón de Arrasate” en categoría Infantil (2008) y Junior (2011); primer premio en el concurso de “Jóvenes Músicos de Euskadi” a nivel individual y segundo en música de cámara junto al clarinetista Iván Arostegui en 2013. Además\, participó en la grabación de la obra de Francisco Escudero “Fantasía Geosinfónica” bajo la batuta de Iñaki Alberdi en 2010. En 2015 consiguió el cuarto puesto en “Klingenthal Accordion Competition”. Además\, en 2016 interpretó la Premier de Helsinki de la obra “Niin kauan minä trampaan” de Paavo Korpijaakko junto al cuarteto de cuerdas de la Filarmónica de Helsinki. Finalmente\, acaba de obtener el primer premio en el concurso Juventudes Musicales de España.\nActualmente\, continúa sus estudios de postgrado en Sibelius Akatemia con el profesor Mika Väyrynen. \nEXPERIENCES \nPrograma\nPrière Op. 20 – C. Franck (12´)\nVento Op.58 – J. Kaipainen (12´)\nCuatro Diferencias (I\, II\, IV) – G. Erkoreka (8´)\nChacona en Fa menor – J. Pachelbel (10´)\nMephisto Maze – V. Kujala (10´)
URL:https://leoncultural.com/evento/concierto-de-acordeon-de-lore-amenabar-teatro-el-albeitar/
LOCATION:El Albéitar\, Calle Covadonga\, Calle Luis de Sosa\, esquina\, León\, León\, 24004\, España
CATEGORIES:Conciertos,Música
ATTACH;FMTTYPE=image/jpeg:https://leoncultural.com/wp-content/uploads/2018/04/Lore-amenabar-acordeon.jpg
END:VEVENT
END:VCALENDAR