BEGIN:VCALENDAR
VERSION:2.0
PRODID:-//León Cultural - ECPv5.16.4.1//NONSGML v1.0//EN
CALSCALE:GREGORIAN
METHOD:PUBLISH
X-WR-CALNAME:León Cultural
X-ORIGINAL-URL:https://leoncultural.com
X-WR-CALDESC:Eventos para León Cultural
BEGIN:VTIMEZONE
TZID:Europe/Paris
BEGIN:DAYLIGHT
TZOFFSETFROM:+0100
TZOFFSETTO:+0200
TZNAME:CEST
DTSTART:20260329T010000
END:DAYLIGHT
BEGIN:STANDARD
TZOFFSETFROM:+0200
TZOFFSETTO:+0100
TZNAME:CET
DTSTART:20261025T010000
END:STANDARD
END:VTIMEZONE
BEGIN:VEVENT
DTSTART;TZID=Europe/Paris:20260430T170000
DTEND;TZID=Europe/Paris:20260430T200000
DTSTAMP:20260422T180123
CREATED:20251212T213622Z
LAST-MODIFIED:20260421T170142Z
UID:58275-1777568400-1777579200@leoncultural.com
SUMMARY:Composición de relatos y microrrelatos. Nivel Intermedio. Curso de extensión universitaria
DESCRIPTION:Composición de relatos y microrrelatos.\nNivel Intermedio.\nCurso de extensión universitaria\nDel 5 de febrero al 16 de abril de 2026\nJueves de 17 a 20 h\nInscribirse<————- \nLa importancia de la escritura con los cinco sentidos (con colores\, olores\, sabores\, tacto\, sonidos)\, con sustantivos y adjetivos adecuados\, metáforas y símiles… La escritura como viaje multisensorial. Lo autobiográfico\, la realidad\, como punto de partida para escribir incluso historias de ficción. La narración y la descripción. Lecturas y ejercicios.\n¿Desde qué punto de vista se narra\, cuál y cómo es la voz narrativa? ¿Cuál es la trama\, tramas o subtramas? ¿Cuál es la estructura del relato? ¿Cuál es el conflicto? ¿Cómo es el tiempo interno y externo del relato? ¿Cuál es el espacio o espacios? ¿Quién y cómo es el o la protagonista de la historia? ¿Cuáles y cómo son el resto de los personajes? ¿Qué tono se emplea al contar la historia? ¿Cuál o cuáles son los registros lingüísticos empleados? Lecturas y ejercicios.
URL:https://leoncultural.com/evento/composicion-de-relatos-y-microrrelatos-nivel-intermedio-curso-de-extension-universitaria/
LOCATION:Campus universitario de Vegazana\, Campus de Vegazana s/n\, León\, León\, 24071\, España
CATEGORIES:Cursos
ATTACH;FMTTYPE=image/webp:https://leoncultural.com/wp-content/uploads/2025/12/Composicion-de-relatos-y-microrrelatos.0ANivel-Intermedio.0ACurso-de-extension-universitaria.webp
END:VEVENT
END:VCALENDAR