BEGIN:VCALENDAR
VERSION:2.0
PRODID:-//León Cultural - ECPv5.16.4.1//NONSGML v1.0//EN
CALSCALE:GREGORIAN
METHOD:PUBLISH
X-WR-CALNAME:León Cultural
X-ORIGINAL-URL:https://leoncultural.com
X-WR-CALDESC:Eventos para León Cultural
BEGIN:VTIMEZONE
TZID:Europe/Paris
BEGIN:DAYLIGHT
TZOFFSETFROM:+0100
TZOFFSETTO:+0200
TZNAME:CEST
DTSTART:20160327T010000
END:DAYLIGHT
BEGIN:STANDARD
TZOFFSETFROM:+0200
TZOFFSETTO:+0100
TZNAME:CET
DTSTART:20161030T010000
END:STANDARD
END:VTIMEZONE
BEGIN:VEVENT
DTSTART;TZID=Europe/Paris:20161204T173000
DTEND;TZID=Europe/Paris:20161204T184500
DTSTAMP:20260422T163443
CREATED:20161204T060002Z
LAST-MODIFIED:20161204T060002Z
UID:6435-1480872600-1480877100@leoncultural.com
SUMMARY:'Chevalier' cine en el Teatro El Albéitar.
DESCRIPTION:Sesiones: 17:30 y 20:10 h.\n \nEntradas (5 €): a partir de quince minutos antes de cada sesión en taquilla\n50% de descuento: Miembros de la Comunidad Universitaria\, previa presentación del carnet universitario y DNI\n \nTítulo original: Chevalier\nAño: 2015\nDuración: 99 min.\nPaís: Grecia\nDirector: Athina Rachel Tsangari\nGuión: Efthymis Filippou\, Athina Rachel Tsangari\nFotografía: Christos Karamanis\nReparto: Giannis Drakopoulos\, Kostas Filippoglou\, Yiorgos Kendros\, Panos Koronis\, Vangelis Mourikis\, Nikos Orphanos\, Efthymis Papadimitriou\, Giorgos Pyrpassopoulos\, Sakis Rouvas\nProductora: Faliro House Productions / Greek Film Center / Haos Film\nGénero: Comedia. Drama | Comedia absurda\n \nSinopsis: En medio del mar Egeo\, seis hombres se encuentran en pleno viaje de pesca\, en un lujoso yate\, para jugar a un juego. Durante este juego serán comparadas varias cosas\, que serán medidas. Las canciones serán acribilladas\, y la sangre analizada. Los amigos se convertirán en rivales. Pero al final del día\, cuando el juego termine\, el hombre que gane será «el mejor hombre». Y podrá llevar en su dedo meñique el anillo de la victoria. (FILMAFFINITY)\n \nPremios\n2016: Premios Independent Spirit: Nominada a mejor película extranjera\n2015: Festival de Locarno: Competición Internacional
URL:https://leoncultural.com/evento/chevalier-cine-teatro-albeitar/
LOCATION:Teatro El Albéitar\, Av de la Facultad de Veterinaria\, 25\, León\, León\, 24004\, España
CATEGORIES:Cine
ATTACH;FMTTYPE=image/jpeg:https://leoncultural.com/wp-content/uploads/2016/12/Chevalier.jpg
END:VEVENT
END:VCALENDAR