BEGIN:VCALENDAR
VERSION:2.0
PRODID:-//León Cultural - ECPv5.16.4.1//NONSGML v1.0//EN
CALSCALE:GREGORIAN
METHOD:PUBLISH
X-WR-CALNAME:León Cultural
X-ORIGINAL-URL:https://leoncultural.com
X-WR-CALDESC:Eventos para León Cultural
BEGIN:VTIMEZONE
TZID:Europe/Paris
BEGIN:DAYLIGHT
TZOFFSETFROM:+0100
TZOFFSETTO:+0200
TZNAME:CEST
DTSTART:20250330T010000
END:DAYLIGHT
BEGIN:STANDARD
TZOFFSETFROM:+0200
TZOFFSETTO:+0100
TZNAME:CET
DTSTART:20251026T010000
END:STANDARD
END:VTIMEZONE
BEGIN:VEVENT
DTSTART;TZID=Europe/Paris:20250307T210000
DTEND;TZID=Europe/Paris:20250307T223000
DTSTAMP:20260422T122324
CREATED:20250306T171946Z
LAST-MODIFIED:20250306T171946Z
UID:55660-1741381200-1741386600@leoncultural.com
SUMMARY:Casino Montreal. El Gran Café
DESCRIPTION:Casino Montreal.\nEl Gran Café\nViernes 7\, marzo 2025\, 21 h\nCasino Montreal son energía y potencia en estado puro. Con la electricidad por bandera\, la banda berciana no deja de sorprender con ese estilo épico y guitarrero que tanto les identifica. Y es que tras dar un primer paso firme con su primer álbum «El hombre excepcional» y hacer toda una declaración de intenciones con su posterior single «El incendio»\, la banda de Ponferrada se dispone a inaugurar una nueva etapa vital y profesional con «El Festival»\, primer adelanto del que será su nuevo álbum. \nUn tema que vio la luz el pasado 31 de enero y que presentarán en directo eñ próximo 7 de marzo en el Gran Café de León. Así que si todavía no tienes tus entradas\, ¡están disponibles en Concertados.com!
URL:https://leoncultural.com/evento/casino-montreal-el-gran-cafe/
LOCATION:El Gran Café\, Calle Cervantes\, 7\, León\, León\, 24003\, España
CATEGORIES:Conciertos,Música
ATTACH;FMTTYPE=image/jpeg:https://leoncultural.com/wp-content/uploads/2025/03/Casino-Montreal.-El-Gran-Cafe.jpg
END:VEVENT
END:VCALENDAR