BEGIN:VCALENDAR
VERSION:2.0
PRODID:-//León Cultural - ECPv5.16.4.1//NONSGML v1.0//EN
CALSCALE:GREGORIAN
METHOD:PUBLISH
X-WR-CALNAME:León Cultural
X-ORIGINAL-URL:https://leoncultural.com
X-WR-CALDESC:Eventos para León Cultural
BEGIN:VTIMEZONE
TZID:Europe/Paris
BEGIN:DAYLIGHT
TZOFFSETFROM:+0100
TZOFFSETTO:+0200
TZNAME:CEST
DTSTART:20250330T010000
END:DAYLIGHT
BEGIN:STANDARD
TZOFFSETFROM:+0200
TZOFFSETTO:+0100
TZNAME:CET
DTSTART:20251026T010000
END:STANDARD
END:VTIMEZONE
BEGIN:VEVENT
DTSTART;TZID=Europe/Paris:20250307T220000
DTEND;TZID=Europe/Paris:20250307T233000
DTSTAMP:20260421T101953
CREATED:20250306T185800Z
LAST-MODIFIED:20250306T185800Z
UID:55668-1741384800-1741390200@leoncultural.com
SUMMARY:Carmesí. Black Bourbon
DESCRIPTION:Carmesí.\nBlack Bourbon\nViernes 7\, marzo 2025\, 22 h\nViernes 7 de Marzo\nApertura 21:00h\nInicio 22:00h\nAnticipada 10€\nOnline: https://www.wegow.com/es/conciertos/concierto-de-carmesi-en-leon-sala-black-bourbon\nTaquilla 12€\nEstilo: Pop urbano\nOrigen: Murcia \nCarmesí es una historia transparente y sincera busca en las emociones de los dramas diarios. Motivos para bailar\, cantar y hacer vibrar\, dejándose su alma en cada letra\, rebuscando en las emociones del oyente hasta encontrar aquella con la que vibre de verdad con lo que ella cuenta\, y con la forma tan especial que tiene de hacerlo\, alegría\, sentido del humor\, ironía y mucha sinceridad. \nCarmesí presentará\, para la edición #GPS15 de Girando Por Salas\, iniciativa del Instituto Nacional de las Artes Escénicas y de la Música (INAEM) del Ministerio de Cultura\, un show muy especial\, producido por Raúl de Lara (Arde Bogotá\, Izal\, Kitai\, etc.) Teclados\, batería electrónica y analógica\, guitarra acústica\, voz\, secuencias perfectas con músicos de tablas y carretera. Un directo que muestra la emoción de las canciones sin pretensiones cercanas y hasta terapéuticas y es que con Carmen Molina las emociones fluyen fácilmente por el carácter cercano y hasta cómico de Carmen. \nCarmesí\, compositora\, cantante y músico con formación de conservatorio y guitarrista destacada\, nos sorprendió en 2023 con temas de pop urbano bailable y abierto\, y un directo que tiene como objetivo el de añadir a la emoción de las canciones\, el carácter cercano y hasta cómico de la artista\, con un público que suele conectar enseguida con ella.\, aunque sea su primera experiencia con ella. \nTe gustarán si te gustan: Zahara\, Rigoberta Bandini\, Merino\, Amaia\, La Bien Querida\, Chica Sobresalto\, Natalia Lacunza y Miss Caffeina. \nGPS Girando Por Salas es un Circuito de Músicas Populares concebido para la promoción de las músicas actuales\, facilitar a los artistas emergentes un circuito de conciertos y salas más allá de su propia comunidad autónoma y potenciar a la música en directo.
URL:https://leoncultural.com/evento/carmesi-black-bourbon/
LOCATION:Black Bourbon\, Puerta del sol 8\, León\, León\, 24003\, Spain
CATEGORIES:Conciertos,Música
ATTACH;FMTTYPE=image/jpeg:https://leoncultural.com/wp-content/uploads/2025/03/Carmesi.-Black-Bourbon.jpg
END:VEVENT
END:VCALENDAR