BEGIN:VCALENDAR
VERSION:2.0
PRODID:-//León Cultural - ECPv5.16.4.1//NONSGML v1.0//EN
CALSCALE:GREGORIAN
METHOD:PUBLISH
X-WR-CALNAME:León Cultural
X-ORIGINAL-URL:https://leoncultural.com
X-WR-CALDESC:Eventos para León Cultural
BEGIN:VTIMEZONE
TZID:Europe/Paris
BEGIN:DAYLIGHT
TZOFFSETFROM:+0100
TZOFFSETTO:+0200
TZNAME:CEST
DTSTART:20220327T010000
END:DAYLIGHT
BEGIN:STANDARD
TZOFFSETFROM:+0200
TZOFFSETTO:+0100
TZNAME:CET
DTSTART:20221030T010000
END:STANDARD
END:VTIMEZONE
BEGIN:VEVENT
DTSTART;TZID=Europe/Paris:20221109T203000
DTEND;TZID=Europe/Paris:20221109T213000
DTSTAMP:20260422T162522
CREATED:20221108T103012Z
LAST-MODIFIED:20221108T103012Z
UID:44197-1668025800-1668029400@leoncultural.com
SUMMARY:Apaiz Kartzela (La carcel de los curas) Documental. El Albéitar.
DESCRIPTION:Apaiz Kartzela (La carcel de los curas) Documental.\nEl Albéitar.\n9 de noviembre de 2022\, 20:30 h\nINVITACIONES A PATIR DE 15 MIN ANTES DE LA PROYECCIÓN EN LA TAQUILLA DEL TEATRO \nDOCUMENTALES XI ENCUENTRO INTERNACIONAL INVESTIGADORES DEL FRANQUISMO \nPRESENTACION Y COLOQUIO: XABIER AMURIZA Y JUAN MARI ARREGUI \n«APAIZ KARTZELA» (LA CÁRCEL DE CURAS) \nDIR: OIER ARANZABAL\, DAVID PALLARÉS\, RITXI LIZARTZA \nDURACIÓN: 85 MIN \nSINOPSIS: \nCuatro sacerdotes presos en la cárcel de curas de Zamora (1968-1976) vuelven a visitar la prisión donde fueron condenados\, en algunos casos\, a penas de más de diez años por denunciar la represión franquista en sus misas. Fue precisamente Franco quien\, utilizando el Concordato firmado con el Vaticano\, creó esa Cárcel Concordataria\, la única del mundo para religiosos. El documental narra la historia del viaje real al que fueron sometidos 53 religiosos de Madrid\, Galicia\, Cataluña y País Vasco en su traslado forzoso a dicho penal.
URL:https://leoncultural.com/evento/apaiz-kartzela-la-carcel-de-los-curas-documental-el-albeitar/
LOCATION:El Albéitar\, Calle Covadonga\, Calle Luis de Sosa\, esquina\, León\, León\, 24004\, España
CATEGORIES:Documental
ATTACH;FMTTYPE=image/jpeg:https://leoncultural.com/wp-content/uploads/2022/11/XI-encuentro-internacional-investigadores-del-franquismo-el-albeitar.jpg
END:VEVENT
END:VCALENDAR