BEGIN:VCALENDAR
VERSION:2.0
PRODID:-//León Cultural - ECPv5.16.4.1//NONSGML v1.0//EN
CALSCALE:GREGORIAN
METHOD:PUBLISH
X-WR-CALNAME:León Cultural
X-ORIGINAL-URL:https://leoncultural.com
X-WR-CALDESC:Eventos para León Cultural
BEGIN:VTIMEZONE
TZID:Europe/Paris
BEGIN:DAYLIGHT
TZOFFSETFROM:+0100
TZOFFSETTO:+0200
TZNAME:CEST
DTSTART:20250330T010000
END:DAYLIGHT
BEGIN:STANDARD
TZOFFSETFROM:+0200
TZOFFSETTO:+0100
TZNAME:CET
DTSTART:20251026T010000
END:STANDARD
END:VTIMEZONE
BEGIN:VEVENT
DTSTART;TZID=Europe/Paris:20250329T203000
DTEND;TZID=Europe/Paris:20250329T220000
DTSTAMP:20260423T105539
CREATED:20241210T215721Z
LAST-MODIFIED:20250329T110211Z
UID:54557-1743280200-1743285600@leoncultural.com
SUMMARY:Anastasia. Tributo musical. Teatro Nuevo Recreo Industrial
DESCRIPTION:Anastasia.\nTributo musical.\nTeatro Nuevo Recreo Industrial\n29 de marzo de 2024\, 20:30 h
URL:https://leoncultural.com/evento/anastasia-tributo-musical-teatro-nuevo-recreo-industrial/
LOCATION:Teatro Nuevo Recreo Industrial. San Marcelo\, Plaza San Marcelo\, 18\, León\, León\, 24003\, España
CATEGORIES:Musical
ATTACH;FMTTYPE=image/jpeg:https://leoncultural.com/wp-content/uploads/2024/12/Anastasia.-Tributo-musical.-Teatro-Nuevo-Recreo-Industrial.jpg
END:VEVENT
END:VCALENDAR