BEGIN:VCALENDAR
VERSION:2.0
PRODID:-//León Cultural - ECPv5.16.4.1//NONSGML v1.0//EN
CALSCALE:GREGORIAN
METHOD:PUBLISH
X-WR-CALNAME:León Cultural
X-ORIGINAL-URL:https://leoncultural.com
X-WR-CALDESC:Eventos para León Cultural
BEGIN:VTIMEZONE
TZID:Europe/Paris
BEGIN:DAYLIGHT
TZOFFSETFROM:+0100
TZOFFSETTO:+0200
TZNAME:CEST
DTSTART:20230326T010000
END:DAYLIGHT
BEGIN:STANDARD
TZOFFSETFROM:+0200
TZOFFSETTO:+0100
TZNAME:CET
DTSTART:20231029T010000
END:STANDARD
END:VTIMEZONE
BEGIN:VEVENT
DTSTART;TZID=Europe/Paris:20230819T220000
DTEND;TZID=Europe/Paris:20230819T233000
DTSTAMP:20260420T111008
CREATED:20230818T062314Z
LAST-MODIFIED:20230818T062314Z
UID:48356-1692482400-1692487800@leoncultural.com
SUMMARY:7Bubbles  "Burbuja". Villamañán
DESCRIPTION:7Bubbles «Burbuja».\nVillamañán\nSábado 19\, agosto 2023\, 22 h\nContemplar y ser tocado por una pompa de jabón es una experiencia bella y onírica que escapa a nuestra lógica. De ahí nace nuestro afán y fascinación por las burbujas\, este insólito suceso o\, diríamos mejor\, misterioso milagro que aviva nuestros sentidos\, nuestra imaginación y nuestros sueños. \nBurbuja es nuestra loca comedia de pompas de jabón donde el público es protagonista clave. Con ella hemos recorrido innumerables aventuras\, despertando la magia en grandes y pequeños y recibiendo aplausos entusiastas. Porque una burbuja vale más que mil palabras\, aquí os las presentamos llenas de encanto y humor en sus más diversas formas. Y recordad que\, aunque las pompas de jabón desaparezca\, su belleza y su magia podemos guardarlas para siempre.
URL:https://leoncultural.com/evento/7bubbles-burbuja-villamanan/
LOCATION:Villamañán\, Villamañán\, León\, España
CATEGORIES:Infantil
ATTACH;FMTTYPE=image/jpeg:https://leoncultural.com/wp-content/uploads/2023/08/7Bubbles-Burbuja.-Villamanan.jpg
END:VEVENT
END:VCALENDAR