BEGIN:VCALENDAR
VERSION:2.0
PRODID:-//León Cultural - ECPv5.16.4.1//NONSGML v1.0//EN
CALSCALE:GREGORIAN
METHOD:PUBLISH
X-WR-CALNAME:León Cultural
X-ORIGINAL-URL:https://leoncultural.com
X-WR-CALDESC:Eventos para León Cultural
BEGIN:VTIMEZONE
TZID:Europe/Paris
BEGIN:DAYLIGHT
TZOFFSETFROM:+0100
TZOFFSETTO:+0200
TZNAME:CEST
DTSTART:20160327T010000
END:DAYLIGHT
BEGIN:STANDARD
TZOFFSETFROM:+0200
TZOFFSETTO:+0100
TZNAME:CET
DTSTART:20161030T010000
END:STANDARD
END:VTIMEZONE
BEGIN:VEVENT
DTSTART;TZID=Europe/Paris:20160501T203000
DTEND;TZID=Europe/Paris:20160501T220000
DTSTAMP:20260419T150907
CREATED:20160501T055145Z
LAST-MODIFIED:20160501T055145Z
UID:2572-1462134600-1462140000@leoncultural.com
SUMMARY:Majo Bros en el Molly Malone's
DESCRIPTION:1 de mayo\, a partir de las 20:30 horas\, Majo Bros actuará en el Molly Malone. \nUna banda nacida en el año 2015 por Jorge quitarra\, Richard\, teclado\, Diana Majo a la batería y Javier Rabanal (bajo). \n 
URL:https://leoncultural.com/evento/2572/
LOCATION:Molly Malone´s
CATEGORIES:Conciertos,Música
ATTACH;FMTTYPE=image/jpeg:https://leoncultural.com/wp-content/uploads/2016/05/majo-bros.jpg
END:VEVENT
END:VCALENDAR