BEGIN:VCALENDAR
VERSION:2.0
PRODID:-//León Cultural - ECPv5.16.4.1//NONSGML v1.0//EN
CALSCALE:GREGORIAN
METHOD:PUBLISH
X-WR-CALNAME:León Cultural
X-ORIGINAL-URL:https://leoncultural.com
X-WR-CALDESC:Eventos para León Cultural
BEGIN:VTIMEZONE
TZID:Europe/Paris
BEGIN:DAYLIGHT
TZOFFSETFROM:+0100
TZOFFSETTO:+0200
TZNAME:CEST
DTSTART:20160327T010000
END:DAYLIGHT
BEGIN:STANDARD
TZOFFSETFROM:+0200
TZOFFSETTO:+0100
TZNAME:CET
DTSTART:20161030T010000
END:STANDARD
END:VTIMEZONE
BEGIN:VEVENT
DTSTART;TZID=Europe/Paris:20160430T183000
DTEND;TZID=Europe/Paris:20160430T200000
DTSTAMP:20260422T110130
CREATED:20160429T203206Z
LAST-MODIFIED:20160429T203244Z
UID:2566-1462041000-1462046400@leoncultural.com
SUMMARY:Cámara de carrete.
DESCRIPTION:El Museo Etnográfico Provincial de León  invita el próximo sábado día 30 de abril a partir de las 18.30 horas a la Pieza del Mes titulada «Cámara de carrete: evolución de la tecnología fotográfica» con el fotógrafo profesional y profesor de fotografía D. José Luis Roldán Serrano «Luque». La pieza elegida es una cámara de carrete\, marca Viking\, que el Museo cuenta entre sus fondos gracias a una donación realizada por Dª Josefina del Cueto Ramos. \n\n\nD. José Luis Roldán Serrano «Luque» nos explicará cómo se trabajaba con estas cámaras manuales\, qué inconvenientes se encontraban a la hora de hacer las fotos y cómo solucionaban los problemas utilizando complementos de la cámara como flashes y trípodes para que el resultado fuera lo más aceptable posible.
URL:https://leoncultural.com/evento/2566/
LOCATION:Museo de los pueblos leoneses\, Calle San Agustín\, 1\, Mansilla de las Mulas\, León\, 24210\, España
CATEGORIES:Fotografía,Ponencias
ATTACH;FMTTYPE=image/jpeg:https://leoncultural.com/wp-content/uploads/2016/04/CAMARA-DE-CARRETE.jpg
END:VEVENT
END:VCALENDAR